Workbook

Sheet Individual Results
A1: Year 7 & 8 U14 Girls (2,000m) | D1: Year 7 & 8 U14 Boys (2,000m) | G1: Year 9 & 10 U16 Girls (2,700m) | J1: Year 9 & 10 U16 Boys (2,700m) | M1: Year 11 to 14 U18 & U20 Girls (3,000m) | P1: Year 11 to 14 U18 & U20 Boys (3,000m)
A2: Position | B2: Name | C2: School | D2: Position | E2: Name | F2: School | G2: Position | H2: Name | I2: School | J2: Position | K2: Name | L2: School | M2: Position | N2: Name | O2: School | P2: Position | Q2: Name | R2: School
A3: 1 | B3: Molly Mae Mcqueen | C3: Dylan Thomas | D3: 1 | E3: Jackson Jones | F3: Bishopston | G3: 1 | H3: Lily James | I3: Morriston | J3: 1 | K3: Oliver Cobbold | L3: Bishopston | M3: 1 | N3: Gwenna Rees | O3: Gwyr | P3: 1 | Q3: Harri Roberts-Truman | R3: Ystalyfera
A4: 2 | B4: Olive Knutson-Watson | C4: Gowerton | D4: 2 | E4: Ewan Borthwick | F4: Bae Baglan | G4: 2 | H4: Zoe Thompson | I4: Olchfa | J4: 2 | K4: Isaac Mcadie | L4: Gwyr | M4: 2 | N4: Annie Evans | O4: Bae Baglan | P4: 2 | Q4: Ben Cleave | R4: Cwmtawe
A5: 3 | B5: Eva Salmon | C5: Ystalyfera | D5: 3 | E5: Elliott Ford | F5: Gwyr | G5: 3 | H5: Aisha Keogh | I5: Bishopston | J5: 3 | K5: Ioan Wyn-Davies | L5: Bro Dur | M5: 3 | N5: Lily Stabler | O5: Morriston | P5: 3 | Q5: Dylan Strawbridge | R5: NPT College
A6: 4 | B6: Sienna Wooliscroft | C6: Gowerton | D6: 4 | E6: Nate Gibbon | F6: Bishopston | G6: 4 | H6: Gwennan Gruffydd | I6: Gwyr | J6: 4 | K6: Brody Howells | L6: Bae Baglan | M6: 4 | N6: Hollie Bodenham | O6: Cwm Brombil | P6: 4 | Q6: Toby Jeremiah | R6: Bro Dur
A7: 5 | B7: Leila Finney | C7: Gwyr | D7: 5 | E7: Efan Wyn Davies | F7: Bro Dur | G7: 5 | H7: Eliza Parry | I7: Gwyr | J7: 5 | K7: Declan Williams | L7: Morriston | M7: 5 | N7: Felicity Wathan | O7: Olchfa | P7: 5 | Q7: Harvey Southam | R7: Bryn Tawe
A8: 6 | B8: Ava Tipuric | C8: Morriston | D8: 6 | E8: Josiah Perkins | F8: Gwyr | G8: 6 | H8: Rosie Jones | I8: Olchfa | J8: 6 | K8: Carwyn Stock | L8: Olchfa | M8: 6 | N8: Ella Drew | O8: Gowerton | P8: 6 | Q8: Thomas Jenkins | R8: Penyrheol
A9: 7 | B9: Isobel Watson | C9: Morriston | D9: 7 | E9: Aeron Hill | F9: Bishopston | G9: 7 | H9: Ellie Joseph | I9: Cwmtawe | J9: 7 | K9: Jacka O'Callaghan | L9: Gowerton | M9: 7 | N9: Leila Osell | O9: Cwmtawe | P9: 7 | Q9: Rhys Sweeney | R9: Cefn Saeson
A10: 8 | B10: Megan Bendle | C10: Bishopston | D10: 8 | E10: Osian Lewis-Wright | F10: Bishop Gore | G10: 8 | H10: Betsan Roberts-Truman | I10: Ystalyfera | J10: 8 | K10: Bo Cuthbertson | L10: Gwyr | M10: 8 | N10: Ruby Cannon | O10: Gwyr | P10: 8 | Q10: Mason Green | R10: Morriston
A11: 9 | B11: Ava Jones | C11: Bishop Vaughan | D11: 9 | E11: Rhys Abbott | F11: Olchfa | G11: 9 | H11: Heidi Wagstaff | I11: Bishopston | J11: 9 | K11: Will Pincott=Davies | L11: Gwyr | M11: 9 | N11: Mylee Watkins | O11: Bro Dur | P11: 9 | Q11: Finley Reynolds | R11: Cefn Saeson
A12: 10 | B12: Ruby Harvey Flynn | C12: Bishopston | D12: 10 | E12: Jesse Roberts | F12: Cwm Brombil | G12: 10 | H12: Carys Stevens | I12: Ystalyfera | J12: 10 | K12: Tomos Pugh | L12: Gwyr | M12: 10 | N12: Lucy Parker-Jones | O12: Olchfa | P12: 10 | Q12: Alex Mitstrack | R12: Dylan Thomas
A13: 11 | B13: Matilda Warchal | C13: Bishopston | D13: 11 | E13: Rocco Evans | F13: Cwmtawe | G13: 11 | H13: Bella Di Francesco | I13: Olchfa | J13: 11 | K13: Vinny Hall | L13: Cwmtawe | M13: 11 | N13: Sophia Monaghan | O13: Cwm Brombil | P13: 11 | Q13: Carter Evans | R13: Cefn Saeson
A14: 12 | B14: Lara Joseph | C14: Olchfa | D14: 12 | E14: Henry Wynne | F14: Bishopston | G14: 12 | H14: Jessica Snelgrove | I14: Ystalyfera | J14: 12 | K14: Felix Davies | L14: Bishopston | M14: 12 | N14: Moli Thomas | O14: Bro Dur | P14: 12 | Q14: Steffan Rockey | R14: Cwmtawe
... A21: 19 | B21: Molly Maclean | C21: Bishopston | D21: 19 | E21: Leo Goss | F21: Cwmtawe | G21: 19 | H21: Poppy Pouden | I21: Bishopston | J21: 19 | K21: Leon Jackson | L21: Olchfa | M21: 19 | N21: Izzy Buller | O21: Morriston | P21: 19 | Q21: Dylan Jones | R21: Llangatwg
A22: 20 | B22: Francesca Jones | C22: Cwm Brombil | D22: 20 | E22: Tyler Morris | F22: Bae Baglan | G22: 20 | H22: Kimberly Tancock | I22: Penyrheol | J22: 20 | K22: Lucas Gibbs | L22: Olchfa | P22: 20 | Q22: Oli Hoare | R22: Bro Dur
A23: 21 | B23: Skye Evans Rae | C23: Gwyr | D23: 21 | E23: Adam Nicholls | F23: Cwm Brombil | G23: 21 | H23: Indie Roberts | I23: Cwmtawe | J23: 21 | K23: Oskar Payne | L23: Bishop Gore | P23: 21 | Q23: Casian Cooze | R23: Gwyr
A24: 22 | B24: Eleri Keddle | C24: Ystalyfera | D24: 22 | E24: Colton Webber | F24: Cwm Brombil | G24: 22 | H24: Flick Loveridge | I24: Cwmtawe | J24: 22 | K24: Drew Lee-Williams | L24: Bro Dur | P24: 22 | Q24: Dexter Lloyd | R24: Gwyr
A25: 23 | B25: Corryn Perry | C25: Bishopston | D25: 23 | E25: Max Rankin | F25: Bishopston | G25: 23 | H25: Evie Creaser | I25: Cwmtawe | J25: 23 | K25: Noah Edwards | L25: Cwm Brombil | P25: 23 | Q25: Anees Darma | R25: Bae Baglan
A26: 24 | B26: Edie Martin | C26: Morriston | D26: 24 | E26: Cameron Medwin | F26: Cwmtawe | G26: 24 | H26: Georgie Paige | I26: Bryn Tawe | J26: 24 | K26: Jacob Ready | L26: Cwm Brombil | P26: 24 | Q26: Thomas Duguid | R26: Morriston
A27: 25 | B27: Camille Holness | C27: Olchfa | D27: 25 | E27: Jack Pawlouski | F27: Cwm Brombil | G27: 25 | H27: Gwenllian Richards | I27: Ystalyfera | J27: 25 | K27: Griff Jones | L27: Gwyr | P27: 25 | Q27: Gruff Owen | R27: Gwyr
A28: 26 | B28: Florence Mitchell | C28: Morriston | D28: 26 | E28: Toby Bevan | F28: Cwmtawe | G28: 26 | H28: Sophie Rees | I28: Bryn Tawe | J28: 26 | K28: Corey Page | L28: Bro Dur | P28: 26 | Q28: Kingsley Bradley | R28: Bae Baglan
A29: 27 | B29: Annabelle James | C29: Gowerton | D29: 27 | E29: Oscar Viant | F29: Bro Dur | G29: 27 | H29: Sophie Chapman | I29: Bryn Tawe | J29: 27 | K29: Noa Richards | L29: Gwyr | P29: 27 | Q29: Braydon Collins | R29: Cwm Brombil
A30: 28 | B30: Millie Turner | C30: Bro Dur | D30: 28 | E30: Theo Jones | F30: Cwm Brombil | G30: 28 | H30: Skye Cannon | I30: Gwyr | J30: 28 | K30: Callan Boxall | L30: Bae Baglan | P30: 28 | Q30: Travis Dight | R30: Dylan Thomas
A31: 29 | B31: Lacey David | C31: Cwm Brombil | D31: 29 | E31: Jacob Taylor | F31: Morriston | G31: 29 | H31: Chloe Harris | I31: Cwmtawe | J31: 29 | K31: Austen Hughes | L31: Cwm Brombil | P31: 29 | Q31: Tom Gibbons | R31: Cwm Brombil
A32: 30 | B32: Mali Jones | C32: Gwyr | D32: 30 | E32: Maddock Reed | F32: Olchfa | G32: 30 | H32: Megan Lewis | I32: Bro Dur | J32: 30 | K32: Samuel Layland | L32: Gowerton | P32: 30 | Q32: Jack Wilyeo | R32: Bae Baglan
A33: 31 | B33: Henley Buthcher | C33: Cwmtawe | D33: 31 | E33: Ben Williams | F33: Bishopston | G33: 31 | H33: Beatrice Lainder | I33: Bro Dur | J33: 31 | K33: Harry John | L33: Gowerton | P33: 31 | Q33: Ben Jones | R33: Cefn Saeson
... A68: 66 | B68: Kara Evans | C68: Olchfa | D68: 66 | E68: Ellis Davies | F68: Gwyr | G68: 66 | H68: Emelia Lewys | I68: Bro Dur | J68: 66 | K68: Macsen Bidder | L68: Gwyr | P68: 66 | Q68: Brandon Darak | R68: Dylan Thomas
A69: 67 | B69: Gwen Thomas | C69: Bryn Tawe | D69: 67 | E69: Seb Rowlands | F69: Cwm Brombil | G69: 67 | H69: Daisy Owens | I69: Bishopston | J69: 67 | K69: Daniel Lewis | L69: Gwyr
A70: 68 | B70: Rosie Hopgood | C70: Bryn Tawe | D70: 68 | E70: Jacob Matthews | F70: Cwm Brombil | G70: 68 | H70: Lathika Udiawar | I70: Ystalyfera | J70: 68 | K70: Stephen Ap Simon | L70: Penyrheol
A71: 69 | B71: Annabelle Fry | C71: Cwm Brombil | D71: 69 | E71: Macsen Pugh | F71: Gwyr | G71: 69 | H71: Amallie Jones | I71: Cwm Brombil | J71: 69 | K71: Kayden Leigh | L71: Morriston
A72: 70 | B72: Maia Edwards | C72: Cwmtawe | D72: 70 | E72: Emmanuel Monenjero | F72: Bishopston | G72: 70 | H72: Isabelle Morgan | I72: Morriston | J72: 70 | K72: Ben Hurren | L72: Ystalyfera
A73: 71 | B73: Catrin Felton | C73: Ystalyfera | D73: 71 | E73: Harry Sellman | F73: Gwyr | G73: 71 | H73: Megan Morris | I73: Ystalyfera | J73: 71 | K73: Will Davies | L73: Gwyr
A74: 72 | B74: Amelia Griffiths | C74: Cwm Brombil | D74: 72 | E74: Blake Dickerson | F74: Morriston | G74: 72 | H74: Poppy Haf | I74: Bryn Tawe | J74: 72 | K74: Leo BowenHunt | L74: Cwm Brombil
A75: 73 | B75: Millie Thomas | C75: Bryn Tawe | D75: 73 | E75: Jack Morgan | F75: Olchfa | G75: 73 | H75: Hannah Thomson | I75: Bryn Tawe | J75: 73 | K75: Ollie Hartshorn | L75: Morriston
A76: 74 | B76: Reeva Shackell | C76: Ystalyfera | D76: 74 | E76: Jack Carter | F76: Cwm Brombil | G76: 74 | H76: Pheobe Webb | I76: Bryn Tawe | J76: 74 | K76: Joseph Miller | L76: Bae Baglan
A77: 75 | B77: Isla Goldhawk | C77: Bae Baglan | D77: 75 | E77: Oliver Davies | F77: Penyrheol | G77: 75 | H77: Eleri Page | I77: Ystalyfera | J77: 75 | K77: Harry Merriman | L77: Cwm Brombil
A78: 76 | B78: Alagah Matthews | C78: Morriston | D78: 76 | E78: Jake Williams | F78: Cwm Brombil | G78: 76 | H78: Mali Lucas | I78: Ystalyfera | J78: 76 | K78: Aaron Case | L78: Llangatwg
A79: 77 | B79: Sophia Tizard-Varcoe | C79: Penyrheol | D79: 77 | E79: Quade Vance Daniel | F79: Cwm Brombil | G79: 77 | H79: Jessica Pazia | I79: Bishop Vaughan | J79: 77 | K79: Brandon Luckett | L79: Bro Dur
A80: 78 | B80: Abigail Malough | C80: Morriston | D80: 78 | E80: Toby Founds | F80: Gwyr | G80: 78 | H80: Claire Nwankwo | I80: Bishop Vaughan | J80: 78 | K80: Sullivan Challenger-Williams | L80: Ffynone
... A90: 88 | B90: Sophie Connolly | C90: Bishop Gore | D90: 88 | E90: Oliver Challenger | F90: Bro Dur | G90: 88 | H90: Ellie McCarley | I90: Gwyr | J90: 88 | K90: Archie Taylor | L90: Morriston
A91: 89 | B91: Cadi Tregreen | C91: Bro Dur | D91: 89 | E91: Cian Saunders | F91: Bishop Vaughan | J91: 89 | K91: Khalid Al Hagin | L91: Bishop Gore
A92: 90 | B92: Ffion Evans | C92: Gwyr | D92: 90 | E92: Macsen Brittan-Dalton | F92: Bryn Tawe | J92: 90 | K92: Oghosa Tyobar | L92: Penyrheol
A93: 91 | B93: Maddie Watkins | C93: Gwyr | D93: 91 | E93: Oscar Barker-Smith | F93: Bishopston | J93: 91 | K93: James Wendon | L93: Ffynone
A94: 92 | B94: Gwennan Lewis | C94: Gwyr | D94: 92 | E94: Macsen Carter=Thomas | F94: Gwyr | J94: 92 | K94: Jack Thyer | L94: Bryn Tawe
A95: 93 | B95: Rosie Gronert | C95: Morriston | D95: 93 | E95: Niall Webb | F95: Gowerton | J95: 93 | K95: Bryn Thomas | L95: Bryn Tawe
A96: 94 | B96: Megan Anthony | C96: Penyrheol | D96: 94 | E96: Dylan Perkins | F96: Bishopston | J96: 94 | K96: Rhys Jones | L96: Bryn Tawe | S96: ?
A97: 95 | B97: Hattie Harding | C97: Gowerton | D97: 95 | E97: Robin Evans | F97: Ystalyfera | S97: ?
A98: 96 | B98: Darcy Hopkins | C98: Gowerton | D98: 96 | E98: JJ | F98: Bryn Tawe | S98: ?
A99: 97 | B99: Grace Cartwright | C99: Bishopston | D99: 97 | E99: Charlie Macpherson | F99: Bishopston | S99: ?
A100: 98 | B100: Sofia Morgan | C100: Bro Dur | D100: 98 | E100: Waller Hayes | F100: Olchfa
A101: 99 | B101: Eva Protheroe | C101: Penyrheol | D101: 99 | E101: Rhys Thomas | F101: Gwyr
A102: 100 | B102: Arabella Williams | C102: Bro Dur | D102: 100 | E102: Lewis Macorreli | F102: Gowerton
A103: 101 | B103: Anelia Wade | C103: St Josephs | D103: 101 | E103: Edward Cox | F103: Ystalyfera
A104: 102 | B104: Grace Geach | C104: Olchfa | D104: 102 | E104: Jayden Paynter | F104: Ystalyfera
A105: 103 | B105: Teegan Morris | C105: Gwyr | D105: 103 | E105: Thomas Avery | F105: Cwm Brombil
A106: 104 | B106: Ava Honey | C106: Bishopston | D106: 104 | E106: Ollie Evans | F106: Gwyr
A107: 105 | B107: Inida Wilcox | C107: Gwyr | D107: 105 | E107: Jacob Thein | F107: Olchfa
A108: 106 | B108: Anwen Nichols-Grey | C108: Olchfa | D108: 106 | E108: Oliver Quinn | F108: Penyrheol
A109: 107 | B109: Molly Davies | C109: Olchfa | D109: 107 | E109: Bevan Freeman | F109: Olchfa
A110: 108 | B110: Cadi Thomas | C110: Gwyr | D110: 108 | E110: Danila Indeqi | F110: Bishop Vaughan
A111: 109 | B111: Kami Sayce | C111: Penyrheol | D111: 109 | E111: Aiden Vink | F111: Penyrheol
... A150: 148 | B150: Patience Somari | C150: Bishop Gore | D150: 148 | E150: Aiden Watts | F150: Gwyr
A151: 149 | B151: Erin Edy | C151: Gwyr
A152: 150 | B152: Maisy Paynter | C152: Gowerton
A153: 151 | B153: Thia Gallagher | C153: Gwyr
A154: 152 | B154: Grace Buckley | C154: Gowerton
A155: 153 | B155: Freya Brren | C155: Bryn Tawe
A156: 154 | B156: Llian Osullivan | C156: Ystalyfera
A157: 155 | B157: Lacey Lloyd | C157: Ystalyfera
A158: 156 | B158: Isabelle Davies | C158: St Josephs
A159: 157 | B159: Bonnie Davies | C159: St Josephs
A160: 158 | B160: Mia Poland | C160: Gowerton
A161: 159 | B161: Mali Davies | C161: Gowerton
A162: 160 | B162: Rosannk Houson Jones | C162: Gowerton
... A204: 202 | B204: Emily O'Connor | C204: Bryn Tawe

Sheet Insights
A1: Cross-Country Championships | Event Insights
A2: Updated across all six individual races and the four-to-score team standings.
A4: Total finishers | B4: =SUM(B14:B19) -> 617 | C4: Schools represented | D4: =COUNTA(A24:A43) -> 20 | E4: Complete teams | F4: =SUM(D14:D19) -> 60 | G4: Girls / Boys | H4: =SUM(B14,B16,B18)&" / "&SUM(B15,B17,B19) -> 309 / 308
A6: Three most important takeaways
A7: 1 | Participation is almost perfectly gender-balanced overall: 309 girls and 308 boys among 617 finishers.
A8: 2 | The field narrows with age: U14 contributes 350 finishers (56.7%), while U18/U20 contributes 85 (13.8%); the senior girls race has only one complete team.
A9: 3 | Bishopston swept both U14 team races and Gwyr swept both U16 races. Gwyr also has the largest overall presence with 100 finishers.
A12: Race participation and team outcomes
A13: Race | B13: Finishers | C13: Schools | D13: Complete teams | E13: Winner | F13: Winning score | G13: Runner-up | H13: Winning margin
A14: U14 Girls | B14: =COUNTA('Individual Results'!B3:B204) -> 202 | C14: {=ROWS(_xlfn.UNIQUE(_xlfn._xlws.FILTER('Individual Results'!C3:C204,'Individual Results'!B3:B204<>"")))} -> 16 | D14: ='Team Scores'!F5 -> 14 | E14: ='Team Scores'!C5 -> Bishopston | F14: ='Team Scores'!E5 -> 42 | G14: =IFERROR(INDEX('Team Scores'!B15:B30,MATCH(2,'Team Scores'!A15:A30,0)),"—") -> Gowerton | H14: =IFERROR(INDEX('Team Scores'!H15:H30,MATCH(2,'Team Scores'!A15:A30,0))-F14,"—") -> 9
A15: U14 Boys | B15: =COUNTA('Individual Results'!E3:E204) -> 148 | C15: {=ROWS(_xlfn.UNIQUE(_xlfn._xlws.FILTER('Individual Results'!F3:F204,'Individual Results'!E3:E204<>"")))} -> 15 | D15: ='Team Scores'!F6 -> 14 | E15: ='Team Scores'!C6 -> Bishopston | F15: ='Team Scores'!E6 -> 24 | G15: =IFERROR(INDEX('Team Scores'!B35:B49,MATCH(2,'Team Scores'!A35:A49,0)),"—") -> Gwyr | H15: =IFERROR(INDEX('Team Scores'!H35:H49,MATCH(2,'Team Scores'!A35:A49,0))-F15,"—") -> 15
A16: U16 Girls | B16: =COUNTA('Individual Results'!H3:H204) -> 88 | C16: {=ROWS(_xlfn.UNIQUE(_xlfn._xlws.FILTER('Individual Results'!I3:I204,'Individual Results'!H3:H204<>"")))} -> 14 | D16: ='Team Scores'!F7 -> 10 | E16: ='Team Scores'!C7 -> Gwyr | F16: ='Team Scores'!E7 -> 36 | G16: =IFERROR(INDEX('Team Scores'!B54:B67,MATCH(2,'Team Scores'!A54:A67,0)),"—") -> Bishopston | H16: =IFERROR(INDEX('Team Scores'!H54:H67,MATCH(2,'Team Scores'!A54:A67,0))-F16,"—") -> 9
A17: U16 Boys | B17: =COUNTA('Individual Results'!K3:K204) -> 94 | C17: {=ROWS(_xlfn.UNIQUE(_xlfn._xlws.FILTER('Individual Results'!L3:L204,'Individual Results'!K3:K204<>"")))} -> 15 | D17: ='Team Scores'!F8 -> 12 | E17: ='Team Scores'!C8 -> Gwyr | F17: ='Team Scores'!E8 -> 29 | G17: =IFERROR(INDEX('Team Scores'!B72:B86,MATCH(2,'Team Scores'!A72:A86,0)),"—") -> Bro Dur | H17: =IFERROR(INDEX('Team Scores'!H72:H86,MATCH(2,'Team Scores'!A72:A86,0))-F17,"—") -> 36
A18: U18/U20 Girls | B18: =COUNTA('Individual Results'!N3:N204) -> 19 | C18: {=ROWS(_xlfn.UNIQUE(_xlfn._xlws.FILTER('Individual Results'!O3:O204,'Individual Results'!N3:N204<>"")))} -> 11 | D18: ='Team Scores'!F9 -> 1 | E18: ='Team Scores'!C9 -> Cwm Brombil | F18: ='Team Scores'!E9 -> 46 | G18: =IFERROR(INDEX('Team Scores'!B91:B101,MATCH(2,'Team Scores'!A91:A101,0)),"—") -> — | H18: =IFERROR(INDEX('Team Scores'!H91:H101,MATCH(2,'Team Scores'!A91:A101,0))-F18,"—") -> —
A19: U18/U20 Boys | B19: =COUNTA('Individual Results'!Q3:Q204) -> 66 | C19: {=ROWS(_xlfn.UNIQUE(_xlfn._xlws.FILTER('Individual Results'!R3:R204,'Individual Results'!Q3:Q204<>"")))} -> 15 | D19: ='Team Scores'!F10 -> 9 | E19: ='Team Scores'!C10 -> Cefn Saeson | F19: ='Team Scores'!E10 -> 58 | G19: =IFERROR(INDEX('Team Scores'!B106:B120,MATCH(2,'Team Scores'!A106:A120,0)),"—") -> Bro Dur | H19: =IFERROR(INDEX('Team Scores'!H106:H120,MATCH(2,'Team Scores'!A106:A120,0))-F19,"—") -> 33
A22: School presence across all races
A23: School | B23: Finishers | C23: Complete teams | D23: Team wins | E23: Team podiums
A24: Gwyr | B24: =SUM(COUNTIF('Individual Results'!$C$3:$C$204,A24),COUNTIF('Individual Results'!$F$3:$F$204,A24),COUNTIF('Individual Results'!$I$3:$I$204,A24),COUNTIF('Individual Results'!$L$3:$L$204,A24),COUNTIF('Individual Results'!$O$3:$O$204,A24),COUNTIF('Individual Results'!$R$3:$R$204,A24)) -> 100 | C24: =COUNTIFS('Team Scores'!$B$15:$B$120,A24,'Team Scores'!$I$15:$I$120,"Complete") -> 5 | D24: =COUNTIFS('Team Scores'!$B$15:$B$120,A24,'Team Scores'!$A$15:$A$120,1) -> 2 | E24: =COUNTIFS('Team Scores'!$B$15:$B$120,A24,'Team Scores'!$A$15:$A$120,">=1",'Team Scores'!$A$15:$A$120,"<=3") -> 3
A25: Cwm Brombil | B25: =SUM(COUNTIF('Individual Results'!$C$3:$C$204,A25),COUNTIF('Individual Results'!$F$3:$F$204,A25),COUNTIF('Individual Results'!$I$3:$I$204,A25),COUNTIF('Individual Results'!$L$3:$L$204,A25),COUNTIF('Individual Results'!$O$3:$O$204,A25),COUNTIF('Individual Results'!$R$3:$R$204,A25)) -> 55 | C25: =COUNTIFS('Team Scores'!$B$15:$B$120,A25,'Team Scores'!$I$15:$I$120,"Complete") -> 5 | D25: =COUNTIFS('Team Scores'!$B$15:$B$120,A25,'Team Scores'!$A$15:$A$120,1) -> 1 | E25: =COUNTIFS('Team Scores'!$B$15:$B$120,A25,'Team Scores'!$A$15:$A$120,">=1",'Team Scores'!$A$15:$A$120,"<=3") -> 1
A26: Bishopston | B26: =SUM(COUNTIF('Individual Results'!$C$3:$C$204,A26),COUNTIF('Individual Results'!$F$3:$F$204,A26),COUNTIF('Individual Results'!$I$3:$I$204,A26),COUNTIF('Individual Results'!$L$3:$L$204,A26),COUNTIF('Individual Results'!$O$3:$O$204,A26),COUNTIF('Individual Results'!$R$3:$R$204,A26)) -> 54 | C26: =COUNTIFS('Team Scores'!$B$15:$B$120,A26,'Team Scores'!$I$15:$I$120,"Complete") -> 3 | D26: =COUNTIFS('Team Scores'!$B$15:$B$120,A26,'Team Scores'!$A$15:$A$120,1) -> 2 | E26: =COUNTIFS('Team Scores'!$B$15:$B$120,A26,'Team Scores'!$A$15:$A$120,">=1",'Team Scores'!$A$15:$A$120,"<=3") -> 3
A27: Bro Dur | B27: =SUM(COUNTIF('Individual Results'!$C$3:$C$204,A27),COUNTIF('Individual Results'!$F$3:$F$204,A27),COUNTIF('Individual Results'!$I$3:$I$204,A27),COUNTIF('Individual Results'!$L$3:$L$204,A27),COUNTIF('Individual Results'!$O$3:$O$204,A27),COUNTIF('Individual Results'!$R$3:$R$204,A27)) -> 52 | C27: =COUNTIFS('Team Scores'!$B$15:$B$120,A27,'Team Scores'!$I$15:$I$120,"Complete") -> 5 | D27: =COUNTIFS('Team Scores'!$B$15:$B$120,A27,'Team Scores'!$A$15:$A$120,1) -> 0 | E27: =COUNTIFS('Team Scores'!$B$15:$B$120,A27,'Team Scores'!$A$15:$A$120,">=1",'Team Scores'!$A$15:$A$120,"<=3") -> 2
A28: Morriston | B28: =SUM(COUNTIF('Individual Results'!$C$3:$C$204,A28),COUNTIF('Individual Results'!$F$3:$F$204,A28),COUNTIF('Individual Results'!$I$3:$I$204,A28),COUNTIF('Individual Results'!$L$3:$L$204,A28),COUNTIF('Individual Results'!$O$3:$O$204,A28),COUNTIF('Individual Results'!$R$3:$R$204,A28)) -> 46 | C28: =COUNTIFS('Team Scores'!$B$15:$B$120,A28,'Team Scores'!$I$15:$I$120,"Complete") -> 5 | D28: =COUNTIFS('Team Scores'!$B$15:$B$120,A28,'Team Scores'!$A$15:$A$120,1) -> 0 | E28: =COUNTIFS('Team Scores'!$B$15:$B$120,A28,'Team Scores'!$A$15:$A$120,">=1",'Team Scores'!$A$15:$A$120,"<=3") -> 1
A29: Olchfa | B29: =SUM(COUNTIF('Individual Results'!$C$3:$C$204,A29),COUNTIF('Individual Results'!$F$3:$F$204,A29),COUNTIF('Individual Results'!$I$3:$I$204,A29),COUNTIF('Individual Results'!$L$3:$L$204,A29),COUNTIF('Individual Results'!$O$3:$O$204,A29),COUNTIF('Individual Results'!$R$3:$R$204,A29)) -> 46 | C29: =COUNTIFS('Team Scores'!$B$15:$B$120,A29,'Team Scores'!$I$15:$I$120,"Complete") -> 4 | D29: =COUNTIFS('Team Scores'!$B$15:$B$120,A29,'Team Scores'!$A$15:$A$120,1) -> 0 | E29: =COUNTIFS('Team Scores'!$B$15:$B$120,A29,'Team Scores'!$A$15:$A$120,">=1",'Team Scores'!$A$15:$A$120,"<=3") -> 2
A30: Bryn Tawe | B30: =SUM(COUNTIF('Individual Results'!$C$3:$C$204,A30),COUNTIF('Individual Results'!$F$3:$F$204,A30),COUNTIF('Individual Results'!$I$3:$I$204,A30),COUNTIF('Individual Results'!$L$3:$L$204,A30),COUNTIF('Individual Results'!$O$3:$O$204,A30),COUNTIF('Individual Results'!$R$3:$R$204,A30)) -> 44 | C30: =COUNTIFS('Team Scores'!$B$15:$B$120,A30,'Team Scores'!$I$15:$I$120,"Complete") -> 4 | D30: =COUNTIFS('Team Scores'!$B$15:$B$120,A30,'Team Scores'!$A$15:$A$120,1) -> 0 | E30: =COUNTIFS('Team Scores'!$B$15:$B$120,A30,'Team Scores'!$A$15:$A$120,">=1",'Team Scores'!$A$15:$A$120,"<=3") -> 0
A31: Ystalyfera | B31: =SUM(COUNTIF('Individual Results'!$C$3:$C$204,A31),COUNTIF('Individual Results'!$F$3:$F$204,A31),COUNTIF('Individual Results'!$I$3:$I$204,A31),COUNTIF('Individual Results'!$L$3:$L$204,A31),COUNTIF('Individual Results'!$O$3:$O$204,A31),COUNTIF('Individual Results'!$R$3:$R$204,A31)) -> 36 | C31: =COUNTIFS('Team Scores'!$B$15:$B$120,A31,'Team Scores'!$I$15:$I$120,"Complete") -> 4 | D31: =COUNTIFS('Team Scores'!$B$15:$B$120,A31,'Team Scores'!$A$15:$A$120,1) -> 0 | E31: =COUNTIFS('Team Scores'!$B$15:$B$120,A31,'Team Scores'!$A$15:$A$120,">=1",'Team Scores'!$A$15:$A$120,"<=3") -> 0
A32: Gowerton | B32: =SUM(COUNTIF('Individual Results'!$C$3:$C$204,A32),COUNTIF('Individual Results'!$F$3:$F$204,A32),COUNTIF('Individual Results'!$I$3:$I$204,A32),COUNTIF('Individual Results'!$L$3:$L$204,A32),COUNTIF('Individual Results'!$O$3:$O$204,A32),COUNTIF('Individual Results'!$R$3:$R$204,A32)) -> 32 | C32: =COUNTIFS('Team Scores'!$B$15:$B$120,A32,'Team Scores'!$I$15:$I$120,"Complete") -> 4 | D32: =COUNTIFS('Team Scores'!$B$15:$B$120,A32,'Team Scores'!$A$15:$A$120,1) -> 0 | E32: =COUNTIFS('Team Scores'!$B$15:$B$120,A32,'Team Scores'!$A$15:$A$120,">=1",'Team Scores'!$A$15:$A$120,"<=3") -> 1
A33: Penyrheol | B33: =SUM(COUNTIF('Individual Results'!$C$3:$C$204,A33),COUNTIF('Individual Results'!$F$3:$F$204,A33),COUNTIF('Individual Results'!$I$3:$I$204,A33),COUNTIF('Individual Results'!$L$3:$L$204,A33),COUNTIF('Individual Results'!$O$3:$O$204,A33),COUNTIF('Individual Results'!$R$3:$R$204,A33)) -> 32 | C33: =COUNTIFS('Team Scores'!$B$15:$B$120,A33,'Team Scores'!$I$15:$I$120,"Complete") -> 5 | D33: =COUNTIFS('Team Scores'!$B$15:$B$120,A33,'Team Scores'!$A$15:$A$120,1) -> 0 | E33: =COUNTIFS('Team Scores'!$B$15:$B$120,A33,'Team Scores'!$A$15:$A$120,">=1",'Team Scores'!$A$15:$A$120,"<=3") -> 0
A34: Cwmtawe | B34: =SUM(COUNTIF('Individual Results'!$C$3:$C$204,A34),COUNTIF('Individual Results'!$F$3:$F$204,A34),COUNTIF('Individual Results'!$I$3:$I$204,A34),COUNTIF('Individual Results'!$L$3:$L$204,A34),COUNTIF('Individual Results'!$O$3:$O$204,A34),COUNTIF('Individual Results'!$R$3:$R$204,A34)) -> 27 | C34: =COUNTIFS('Team Scores'!$B$15:$B$120,A34,'Team Scores'!$I$15:$I$120,"Complete") -> 3 | D34: =COUNTIFS('Team Scores'!$B$15:$B$120,A34,'Team Scores'!$A$15:$A$120,1) -> 0 | E34: =COUNTIFS('Team Scores'!$B$15:$B$120,A34,'Team Scores'!$A$15:$A$120,">=1",'Team Scores'!$A$15:$A$120,"<=3") -> 1
A35: Bae Baglan | B35: =SUM(COUNTIF('Individual Results'!$C$3:$C$204,A35),COUNTIF('Individual Results'!$F$3:$F$204,A35),COUNTIF('Individual Results'!$I$3:$I$204,A35),COUNTIF('Individual Results'!$L$3:$L$204,A35),COUNTIF('Individual Results'!$O$3:$O$204,A35),COUNTIF('Individual Results'!$R$3:$R$204,A35)) -> 24 | C35: =COUNTIFS('Team Scores'!$B$15:$B$120,A35,'Team Scores'!$I$15:$I$120,"Complete") -> 4 | D35: =COUNTIFS('Team Scores'!$B$15:$B$120,A35,'Team Scores'!$A$15:$A$120,1) -> 0 | E35: =COUNTIFS('Team Scores'!$B$15:$B$120,A35,'Team Scores'!$A$15:$A$120,">=1",'Team Scores'!$A$15:$A$120,"<=3") -> 1
A36: Bishop Vaughan | B36: =SUM(COUNTIF('Individual Results'!$C$3:$C$204,A36),COUNTIF('Individual Results'!$F$3:$F$204,A36),COUNTIF('Individual Results'!$I$3:$I$204,A36),COUNTIF('Individual Results'!$L$3:$L$204,A36),COUNTIF('Individual Results'!$O$3:$O$204,A36),COUNTIF('Individual Results'!$R$3:$R$204,A36)) -> 19 | C36: =COUNTIFS('Team Scores'!$B$15:$B$120,A36,'Team Scores'!$I$15:$I$120,"Complete") -> 2 | D36: =COUNTIFS('Team Scores'!$B$15:$B$120,A36,'Team Scores'!$A$15:$A$120,1) -> 0 | E36: =COUNTIFS('Team Scores'!$B$15:$B$120,A36,'Team Scores'!$A$15:$A$120,">=1",'Team Scores'!$A$15:$A$120,"<=3") -> 0
A37: Bishop Gore | B37: =SUM(COUNTIF('Individual Results'!$C$3:$C$204,A37),COUNTIF('Individual Results'!$F$3:$F$204,A37),COUNTIF('Individual Results'!$I$3:$I$204,A37),COUNTIF('Individual Results'!$L$3:$L$204,A37),COUNTIF('Individual Results'!$O$3:$O$204,A37),COUNTIF('Individual Results'!$R$3:$R$204,A37)) -> 11 | C37: =COUNTIFS('Team Scores'!$B$15:$B$120,A37,'Team Scores'!$I$15:$I$120,"Complete") -> 2 | D37: =COUNTIFS('Team Scores'!$B$15:$B$120,A37,'Team Scores'!$A$15:$A$120,1) -> 0 | E37: =COUNTIFS('Team Scores'!$B$15:$B$120,A37,'Team Scores'!$A$15:$A$120,">=1",'Team Scores'!$A$15:$A$120,"<=3") -> 0 | G37: Questions for deeper analysis
A38: Cefn Saeson | B38: =SUM(COUNTIF('Individual Results'!$C$3:$C$204,A38),COUNTIF('Individual Results'!$F$3:$F$204,A38),COUNTIF('Individual Results'!$I$3:$I$204,A38),COUNTIF('Individual Results'!$L$3:$L$204,A38),COUNTIF('Individual Results'!$O$3:$O$204,A38),COUNTIF('Individual Results'!$R$3:$R$204,A38)) -> 11 | C38: =COUNTIFS('Team Scores'!$B$15:$B$120,A38,'Team Scores'!$I$15:$I$120,"Complete") -> 1 | D38: =COUNTIFS('Team Scores'!$B$15:$B$120,A38,'Team Scores'!$A$15:$A$120,1) -> 1 | E38: =COUNTIFS('Team Scores'!$B$15:$B$120,A38,'Team Scores'!$A$15:$A$120,">=1",'Team Scores'!$A$15:$A$120,"<=3") -> 1 | G38: • Should the six results roll into an overall school championship? If so, how should race placings be converted to championship points?
A39: Dylan Thomas | B39: =SUM(COUNTIF('Individual Results'!$C$3:$C$204,A39),COUNTIF('Individual Results'!$F$3:$F$204,A39),COUNTIF('Individual Results'!$I$3:$I$204,A39),COUNTIF('Individual Results'!$L$3:$L$204,A39),COUNTIF('Individual Results'!$O$3:$O$204,A39),COUNTIF('Individual Results'!$R$3:$R$204,A39)) -> 8 | C39: =COUNTIFS('Team Scores'!$B$15:$B$120,A39,'Team Scores'!$I$15:$I$120,"Complete") -> 1 | D39: =COUNTIFS('Team Scores'!$B$15:$B$120,A39,'Team Scores'!$A$15:$A$120,1) -> 0 | E39: =COUNTIFS('Team Scores'!$B$15:$B$120,A39,'Team Scores'!$A$15:$A$120,">=1",'Team Scores'!$A$15:$A$120,"<=3") -> 0 | G39: • What tie-break should apply when team scores are equal: fourth scorer, fifth finisher, or shared place?
A40: Llangatwg | B40: =SUM(COUNTIF('Individual Results'!$C$3:$C$204,A40),COUNTIF('Individual Results'!$F$3:$F$204,A40),COUNTIF('Individual Results'!$I$3:$I$204,A40),COUNTIF('Individual Results'!$L$3:$L$204,A40),COUNTIF('Individual Results'!$O$3:$O$204,A40),COUNTIF('Individual Results'!$R$3:$R$204,A40)) -> 8 | C40: =COUNTIFS('Team Scores'!$B$15:$B$120,A40,'Team Scores'!$I$15:$I$120,"Complete") -> 2 | D40: =COUNTIFS('Team Scores'!$B$15:$B$120,A40,'Team Scores'!$A$15:$A$120,1) -> 0 | E40: =COUNTIFS('Team Scores'!$B$15:$B$120,A40,'Team Scores'!$A$15:$A$120,">=1",'Team Scores'!$A$15:$A$120,"<=3") -> 0 | G40: • Should U18 and U20 competitors be separated when age-band data becomes available?
A41: St Josephs | B41: =SUM(COUNTIF('Individual Results'!$C$3:$C$204,A41),COUNTIF('Individual Results'!$F$3:$F$204,A41),COUNTIF('Individual Results'!$I$3:$I$204,A41),COUNTIF('Individual Results'!$L$3:$L$204,A41),COUNTIF('Individual Results'!$O$3:$O$204,A41),COUNTIF('Individual Results'!$R$3:$R$204,A41)) -> 6 | C41: =COUNTIFS('Team Scores'!$B$15:$B$120,A41,'Team Scores'!$I$15:$I$120,"Complete") -> 1 | D41: =COUNTIFS('Team Scores'!$B$15:$B$120,A41,'Team Scores'!$A$15:$A$120,1) -> 0 | E41: =COUNTIFS('Team Scores'!$B$15:$B$120,A41,'Team Scores'!$A$15:$A$120,">=1",'Team Scores'!$A$15:$A$120,"<=3") -> 0
A42: Ffynone | B42: =SUM(COUNTIF('Individual Results'!$C$3:$C$204,A42),COUNTIF('Individual Results'!$F$3:$F$204,A42),COUNTIF('Individual Results'!$I$3:$I$204,A42),COUNTIF('Individual Results'!$L$3:$L$204,A42),COUNTIF('Individual Results'!$O$3:$O$204,A42),COUNTIF('Individual Results'!$R$3:$R$204,A42)) -> 5 | C42: =COUNTIFS('Team Scores'!$B$15:$B$120,A42,'Team Scores'!$I$15:$I$120,"Complete") -> 0 | D42: =COUNTIFS('Team Scores'!$B$15:$B$120,A42,'Team Scores'!$A$15:$A$120,1) -> 0 | E42: =COUNTIFS('Team Scores'!$B$15:$B$120,A42,'Team Scores'!$A$15:$A$120,">=1",'Team Scores'!$A$15:$A$120,"<=3") -> 0
A43: NPT College | B43: =SUM(COUNTIF('Individual Results'!$C$3:$C$204,A43),COUNTIF('Individual Results'!$F$3:$F$204,A43),COUNTIF('Individual Results'!$I$3:$I$204,A43),COUNTIF('Individual Results'!$L$3:$L$204,A43),COUNTIF('Individual Results'!$O$3:$O$204,A43),COUNTIF('Individual Results'!$R$3:$R$204,A43)) -> 1 | C43: =COUNTIFS('Team Scores'!$B$15:$B$120,A43,'Team Scores'!$I$15:$I$120,"Complete") -> 0 | D43: =COUNTIFS('Team Scores'!$B$15:$B$120,A43,'Team Scores'!$A$15:$A$120,1) -> 0 | E43: =COUNTIFS('Team Scores'!$B$15:$B$120,A43,'Team Scores'!$A$15:$A$120,">=1",'Team Scores'!$A$15:$A$120,"<=3") -> 0

Sheet Team Scores
A1: Cross-Country Team Scores
A2: Rule: the first four finishers score; team score is their finishing positions added together. Fewer than four finishers = incomplete. Lowest score ranks highest.
A4: Race | C4: Winning school | E4: Winning score | F4: Complete teams
A5: U14 Girls (2,000m) | C5: =INDEX(B15:B30,MATCH(MIN(H15:H30),H15:H30,0)) -> Bishopston | E5: =MIN(H15:H30) -> 42 | F5: =COUNT(H15:H30) -> 14
A6: U14 Boys (2,000m) | C6: =INDEX(B35:B49,MATCH(MIN(H35:H49),H35:H49,0)) -> Bishopston | E6: =MIN(H35:H49) -> 24 | F6: =COUNT(H35:H49) -> 14
A7: U16 Girls (2,700m) | C7: =INDEX(B54:B67,MATCH(MIN(H54:H67),H54:H67,0)) -> Gwyr | E7: =MIN(H54:H67) -> 36 | F7: =COUNT(H54:H67) -> 10
A8: U16 Boys (2,700m) | C8: =INDEX(B72:B86,MATCH(MIN(H72:H86),H72:H86,0)) -> Gwyr | E8: =MIN(H72:H86) -> 29 | F8: =COUNT(H72:H86) -> 12
A9: U18/U20 Girls (3,000m) | C9: =INDEX(B91:B101,MATCH(MIN(H91:H101),H91:H101,0)) -> Cwm Brombil | E9: =MIN(H91:H101) -> 46 | F9: =COUNT(H91:H101) -> 1
A10: U18/U20 Boys (3,000m) | C10: =INDEX(B106:B120,MATCH(MIN(H106:H120),H106:H120,0)) -> Cefn Saeson | E10: =MIN(H106:H120) -> 58 | F10: =COUNT(H106:H120) -> 9
A13: Year 7 & 8 U14 Girls (2,000m)
A14: Rank | B14: School | C14: Finishers | D14: Scorer 1 | E14: Scorer 2 | F14: Scorer 3 | G14: Scorer 4 | H14: Team score | I14: Status
A15: =IF(H15="","",_xlfn.RANK.EQ(H15,$H$15:$H$30,1)) -> 1 | B15: Bishopston | C15: =COUNTIF('Individual Results'!$C$3:$C$204,B15) -> 17 | D15: {=IF(C15<4,"",SMALL(_xlfn._xlws.FILTER('Individual Results'!$A$3:$A$204,'Individual Results'!$C$3:$C$204=B15),1))} -> 8 | E15: {=IF(C15<4,"",SMALL(_xlfn._xlws.FILTER('Individual Results'!$A$3:$A$204,'Individual Results'!$C$3:$C$204=B15),2))} -> 10 | F15: {=IF(C15<4,"",SMALL(_xlfn._xlws.FILTER('Individual Results'!$A$3:$A$204,'Individual Results'!$C$3:$C$204=B15),3))} -> 11 | G15: {=IF(C15<4,"",SMALL(_xlfn._xlws.FILTER('Individual Results'!$A$3:$A$204,'Individual Results'!$C$3:$C$204=B15),4))} -> 13 | H15: =IF(C15<4,"",SUM(D15:G15)) -> 42 | I15: =IF(C15<4,"Incomplete","Complete") -> Complete
A16: =IF(H16="","",_xlfn.RANK.EQ(H16,$H$15:$H$30,1)) -> 2 | B16: Gowerton | C16: =COUNTIF('Individual Results'!$C$3:$C$204,B16) -> 15 | D16: {=IF(C16<4,"",SMALL(_xlfn._xlws.FILTER('Individual Results'!$A$3:$A$204,'Individual Results'!$C$3:$C$204=B16),1))} -> 2 | E16: {=IF(C16<4,"",SMALL(_xlfn._xlws.FILTER('Individual Results'!$A$3:$A$204,'Individual Results'!$C$3:$C$204=B16),2))} -> 4 | F16: {=IF(C16<4,"",SMALL(_xlfn._xlws.FILTER('Individual Results'!$A$3:$A$204,'Individual Results'!$C$3:$C$204=B16),3))} -> 18 | G16: {=IF(C16<4,"",SMALL(_xlfn._xlws.FILTER('Individual Results'!$A$3:$A$204,'Individual Results'!$C$3:$C$204=B16),4))} -> 27 | H16: =IF(C16<4,"",SUM(D16:G16)) -> 51 | I16: =IF(C16<4,"Incomplete","Complete") -> Complete
A17: =IF(H17="","",_xlfn.RANK.EQ(H17,$H$15:$H$30,1)) -> 3 | B17: Morriston | C17: =COUNTIF('Individual Results'!$C$3:$C$204,B17) -> 18 | D17: {=IF(C17<4,"",SMALL(_xlfn._xlws.FILTER('Individual Results'!$A$3:$A$204,'Individual Results'!$C$3:$C$204=B17),1))} -> 6 | E17: {=IF(C17<4,"",SMALL(_xlfn._xlws.FILTER('Individual Results'!$A$3:$A$204,'Individual Results'!$C$3:$C$204=B17),2))} -> 7 | F17: {=IF(C17<4,"",SMALL(_xlfn._xlws.FILTER('Individual Results'!$A$3:$A$204,'Individual Results'!$C$3:$C$204=B17),3))} -> 24 | G17: {=IF(C17<4,"",SMALL(_xlfn._xlws.FILTER('Individual Results'!$A$3:$A$204,'Individual Results'!$C$3:$C$204=B17),4))} -> 26 | H17: =IF(C17<4,"",SUM(D17:G17)) -> 63 | I17: =IF(C17<4,"Incomplete","Complete") -> Complete
A18: =IF(H18="","",_xlfn.RANK.EQ(H18,$H$15:$H$30,1)) -> 4 | B18: Gwyr | C18: =COUNTIF('Individual Results'!$C$3:$C$204,B18) -> 28 | D18: {=IF(C18<4,"",SMALL(_xlfn._xlws.FILTER('Individual Results'!$A$3:$A$204,'Individual Results'!$C$3:$C$204=B18),1))} -> 5 | E18: {=IF(C18<4,"",SMALL(_xlfn._xlws.FILTER('Individual Results'!$A$3:$A$204,'Individual Results'!$C$3:$C$204=B18),2))} -> 16 | F18: {=IF(C18<4,"",SMALL(_xlfn._xlws.FILTER('Individual Results'!$A$3:$A$204,'Individual Results'!$C$3:$C$204=B18),3))} -> 21 | G18: {=IF(C18<4,"",SMALL(_xlfn._xlws.FILTER('Individual Results'!$A$3:$A$204,'Individual Results'!$C$3:$C$204=B18),4))} -> 30 | H18: =IF(C18<4,"",SUM(D18:G18)) -> 72 | I18: =IF(C18<4,"Incomplete","Complete") -> Complete
A19: =IF(H19="","",_xlfn.RANK.EQ(H19,$H$15:$H$30,1)) -> 5 | B19: Olchfa | C19: =COUNTIF('Individual Results'!$C$3:$C$204,B19) -> 16 | D19: {=IF(C19<4,"",SMALL(_xlfn._xlws.FILTER('Individual Results'!$A$3:$A$204,'Individual Results'!$C$3:$C$204=B19),1))} -> 12 | E19: {=IF(C19<4,"",SMALL(_xlfn._xlws.FILTER('Individual Results'!$A$3:$A$204,'Individual Results'!$C$3:$C$204=B19),2))} -> 15 | F19: {=IF(C19<4,"",SMALL(_xlfn._xlws.FILTER('Individual Results'!$A$3:$A$204,'Individual Results'!$C$3:$C$204=B19),3))} -> 25 | G19: {=IF(C19<4,"",SMALL(_xlfn._xlws.FILTER('Individual Results'!$A$3:$A$204,'Individual Results'!$C$3:$C$204=B19),4))} -> 42 | H19: =IF(C19<4,"",SUM(D19:G19)) -> 94 | I19: =IF(C19<4,"Incomplete","Complete") -> Complete
A20: =IF(H20="","",_xlfn.RANK.EQ(H20,$H$15:$H$30,1)) -> 6 | B20: Ystalyfera | C20: =COUNTIF('Individual Results'!$C$3:$C$204,B20) -> 12 | D20: {=IF(C20<4,"",SMALL(_xlfn._xlws.FILTER('Individual Results'!$A$3:$A$204,'Individual Results'!$C$3:$C$204=B20),1))} -> 3 | E20: {=IF(C20<4,"",SMALL(_xlfn._xlws.FILTER('Individual Results'!$A$3:$A$204,'Individual Results'!$C$3:$C$204=B20),2))} -> 22 | F20: {=IF(C20<4,"",SMALL(_xlfn._xlws.FILTER('Individual Results'!$A$3:$A$204,'Individual Results'!$C$3:$C$204=B20),3))} -> 32 | G20: {=IF(C20<4,"",SMALL(_xlfn._xlws.FILTER('Individual Results'!$A$3:$A$204,'Individual Results'!$C$3:$C$204=B20),4))} -> 46 | H20: =IF(C20<4,"",SUM(D20:G20)) -> 103 | I20: =IF(C20<4,"Incomplete","Complete") -> Complete
A21: =IF(H21="","",_xlfn.RANK.EQ(H21,$H$15:$H$30,1)) -> 7 | B21: Cwm Brombil | C21: =COUNTIF('Individual Results'!$C$3:$C$204,B21) -> 15 | D21: {=IF(C21<4,"",SMALL(_xlfn._xlws.FILTER('Individual Results'!$A$3:$A$204,'Individual Results'!$C$3:$C$204=B21),1))} -> 20 | E21: {=IF(C21<4,"",SMALL(_xlfn._xlws.FILTER('Individual Results'!$A$3:$A$204,'Individual Results'!$C$3:$C$204=B21),2))} -> 29 | F21: {=IF(C21<4,"",SMALL(_xlfn._xlws.FILTER('Individual Results'!$A$3:$A$204,'Individual Results'!$C$3:$C$204=B21),3))} -> 36 | G21: {=IF(C21<4,"",SMALL(_xlfn._xlws.FILTER('Individual Results'!$A$3:$A$204,'Individual Results'!$C$3:$C$204=B21),4))} -> 41 | H21: =IF(C21<4,"",SUM(D21:G21)) -> 126 | I21: =IF(C21<4,"Incomplete","Complete") -> Complete
A22: =IF(H22="","",_xlfn.RANK.EQ(H22,$H$15:$H$30,1)) -> 8 | B22: Bae Baglan | C22: =COUNTIF('Individual Results'!$C$3:$C$204,B22) -> 5 | D22: {=IF(C22<4,"",SMALL(_xlfn._xlws.FILTER('Individual Results'!$A$3:$A$204,'Individual Results'!$C$3:$C$204=B22),1))} -> 37 | E22: {=IF(C22<4,"",SMALL(_xlfn._xlws.FILTER('Individual Results'!$A$3:$A$204,'Individual Results'!$C$3:$C$204=B22),2))} -> 45 | F22: {=IF(C22<4,"",SMALL(_xlfn._xlws.FILTER('Individual Results'!$A$3:$A$204,'Individual Results'!$C$3:$C$204=B22),3))} -> 56 | G22: {=IF(C22<4,"",SMALL(_xlfn._xlws.FILTER('Individual Results'!$A$3:$A$204,'Individual Results'!$C$3:$C$204=B22),4))} -> 58 | H22: =IF(C22<4,"",SUM(D22:G22)) -> 196 | I22: =IF(C22<4,"Incomplete","Complete") -> Complete
A23: =IF(H23="","",_xlfn.RANK.EQ(H23,$H$15:$H$30,1)) -> 9 | B23: Bryn Tawe | C23: =COUNTIF('Individual Results'!$C$3:$C$204,B23) -> 24 | D23: {=IF(C23<4,"",SMALL(_xlfn._xlws.FILTER('Individual Results'!$A$3:$A$204,'Individual Results'!$C$3:$C$204=B23),1))} -> 53 | E23: {=IF(C23<4,"",SMALL(_xlfn._xlws.FILTER('Individual Results'!$A$3:$A$204,'Individual Results'!$C$3:$C$204=B23),2))} -> 59 | F23: {=IF(C23<4,"",SMALL(_xlfn._xlws.FILTER('Individual Results'!$A$3:$A$204,'Individual Results'!$C$3:$C$204=B23),3))} -> 67 | G23: {=IF(C23<4,"",SMALL(_xlfn._xlws.FILTER('Individual Results'!$A$3:$A$204,'Individual Results'!$C$3:$C$204=B23),4))} -> 68 | H23: =IF(C23<4,"",SUM(D23:G23)) -> 247 | I23: =IF(C23<4,"Incomplete","Complete") -> Complete
A24: =IF(H24="","",_xlfn.RANK.EQ(H24,$H$15:$H$30,1)) -> 10 | B24: Bro Dur | C24: =COUNTIF('Individual Results'!$C$3:$C$204,B24) -> 17 | D24: {=IF(C24<4,"",SMALL(_xlfn._xlws.FILTER('Individual Results'!$A$3:$A$204,'Individual Results'!$C$3:$C$204=B24),1))} -> 28 | E24: {=IF(C24<4,"",SMALL(_xlfn._xlws.FILTER('Individual Results'!$A$3:$A$204,'Individual Results'!$C$3:$C$204=B24),2))} -> 55 | F24: {=IF(C24<4,"",SMALL(_xlfn._xlws.FILTER('Individual Results'!$A$3:$A$204,'Individual Results'!$C$3:$C$204=B24),3))} -> 89 | G24: {=IF(C24<4,"",SMALL(_xlfn._xlws.FILTER('Individual Results'!$A$3:$A$204,'Individual Results'!$C$3:$C$204=B24),4))} -> 98 | H24: =IF(C24<4,"",SUM(D24:G24)) -> 270 | I24: =IF(C24<4,"Incomplete","Complete") -> Complete
A25: =IF(H25="","",_xlfn.RANK.EQ(H25,$H$15:$H$30,1)) -> 11 | B25: Cwmtawe | C25: =COUNTIF('Individual Results'!$C$3:$C$204,B25) -> 5 | D25: {=IF(C25<4,"",SMALL(_xlfn._xlws.FILTER('Individual Results'!$A$3:$A$204,'Individual Results'!$C$3:$C$204=B25),1))} -> 31 | E25: {=IF(C25<4,"",SMALL(_xlfn._xlws.FILTER('Individual Results'!$A$3:$A$204,'Individual Results'!$C$3:$C$204=B25),2))} -> 62 | F25: {=IF(C25<4,"",SMALL(_xlfn._xlws.FILTER('Individual Results'!$A$3:$A$204,'Individual Results'!$C$3:$C$204=B25),3))} -> 70 | G25: {=IF(C25<4,"",SMALL(_xlfn._xlws.FILTER('Individual Results'!$A$3:$A$204,'Individual Results'!$C$3:$C$204=B25),4))} -> 129 | H25: =IF(C25<4,"",SUM(D25:G25)) -> 292 | I25: =IF(C25<4,"Incomplete","Complete") -> Complete
A26: =IF(H26="","",_xlfn.RANK.EQ(H26,$H$15:$H$30,1)) -> 12 | B26: Penyrheol | C26: =COUNTIF('Individual Results'!$C$3:$C$204,B26) -> 10 | D26: {=IF(C26<4,"",SMALL(_xlfn._xlws.FILTER('Individual Results'!$A$3:$A$204,'Individual Results'!$C$3:$C$204=B26),1))} -> 40 | E26: {=IF(C26<4,"",SMALL(_xlfn._xlws.FILTER('Individual Results'!$A$3:$A$204,'Individual Results'!$C$3:$C$204=B26),2))} -> 77 | F26: {=IF(C26<4,"",SMALL(_xlfn._xlws.FILTER('Individual Results'!$A$3:$A$204,'Individual Results'!$C$3:$C$204=B26),3))} -> 94 | G26: {=IF(C26<4,"",SMALL(_xlfn._xlws.FILTER('Individual Results'!$A$3:$A$204,'Individual Results'!$C$3:$C$204=B26),4))} -> 99 | H26: =IF(C26<4,"",SUM(D26:G26)) -> 310 | I26: =IF(C26<4,"Incomplete","Complete") -> Complete
... A30: =IF(H30="","",_xlfn.RANK.EQ(H30,$H$15:$H$30,1)) | B30: Dylan Thomas | C30: =COUNTIF('Individual Results'!$C$3:$C$204,B30) -> 1 | D30: {=IF(C30<4,"",SMALL(_xlfn._xlws.FILTER('Individual Results'!$A$3:$A$204,'Individual Results'!$C$3:$C$204=B30),1))} | E30: {=IF(C30<4,"",SMALL(_xlfn._xlws.FILTER('Individual Results'!$A$3:$A$204,'Individual Results'!$C$3:$C$204=B30),2))} | F30: {=IF(C30<4,"",SMALL(_xlfn._xlws.FILTER('Individual Results'!$A$3:$A$204,'Individual Results'!$C$3:$C$204=B30),3))} | G30: {=IF(C30<4,"",SMALL(_xlfn._xlws.FILTER('Individual Results'!$A$3:$A$204,'Individual Results'!$C$3:$C$204=B30),4))} | H30: =IF(C30<4,"",SUM(D30:G30)) | I30: =IF(C30<4,"Incomplete","Complete") -> Incomplete
A33: Year 7 & 8 U14 Boys (2,000m)
A34: Rank | B34: School | C34: Finishers | D34: Scorer 1 | E34: Scorer 2 | F34: Scorer 3 | G34: Scorer 4 | H34: Team score | I34: Status
A35: =IF(H35="","",_xlfn.RANK.EQ(H35,$H$35:$H$49,1)) -> 1 | B35: Bishopston | C35: =COUNTIF('Individual Results'!$F$3:$F$204,B35) -> 23 | D35: {=IF(C35<4,"",SMALL(_xlfn._xlws.FILTER('Individual Results'!$D$3:$D$204,'Individual Results'!$F$3:$F$204=B35),1))} -> 1 | E35: {=IF(C35<4,"",SMALL(_xlfn._xlws.FILTER('Individual Results'!$D$3:$D$204,'Individual Results'!$F$3:$F$204=B35),2))} -> 4 | F35: {=IF(C35<4,"",SMALL(_xlfn._xlws.FILTER('Individual Results'!$D$3:$D$204,'Individual Results'!$F$3:$F$204=B35),3))} -> 7 | G35: {=IF(C35<4,"",SMALL(_xlfn._xlws.FILTER('Individual Results'!$D$3:$D$204,'Individual Results'!$F$3:$F$204=B35),4))} -> 12 | H35: =IF(C35<4,"",SUM(D35:G35)) -> 24 | I35: =IF(C35<4,"Incomplete","Complete") -> Complete
A36: =IF(H36="","",_xlfn.RANK.EQ(H36,$H$35:$H$49,1)) -> 2 | B36: Gwyr | C36: =COUNTIF('Individual Results'!$F$3:$F$204,B36) -> 32 | D36: {=IF(C36<4,"",SMALL(_xlfn._xlws.FILTER('Individual Results'!$D$3:$D$204,'Individual Results'!$F$3:$F$204=B36),1))} -> 3 | E36: {=IF(C36<4,"",SMALL(_xlfn._xlws.FILTER('Individual Results'!$D$3:$D$204,'Individual Results'!$F$3:$F$204=B36),2))} -> 6 | F36: {=IF(C36<4,"",SMALL(_xlfn._xlws.FILTER('Individual Results'!$D$3:$D$204,'Individual Results'!$F$3:$F$204=B36),3))} -> 13 | G36: {=IF(C36<4,"",SMALL(_xlfn._xlws.FILTER('Individual Results'!$D$3:$D$204,'Individual Results'!$F$3:$F$204=B36),4))} -> 17 | H36: =IF(C36<4,"",SUM(D36:G36)) -> 39 | I36: =IF(C36<4,"Incomplete","Complete") -> Complete
A37: =IF(H37="","",_xlfn.RANK.EQ(H37,$H$35:$H$49,1)) -> 3 | B37: Cwmtawe | C37: =COUNTIF('Individual Results'!$F$3:$F$204,B37) -> 7 | D37: {=IF(C37<4,"",SMALL(_xlfn._xlws.FILTER('Individual Results'!$D$3:$D$204,'Individual Results'!$F$3:$F$204=B37),1))} -> 11 | E37: {=IF(C37<4,"",SMALL(_xlfn._xlws.FILTER('Individual Results'!$D$3:$D$204,'Individual Results'!$F$3:$F$204=B37),2))} -> 14 | F37: {=IF(C37<4,"",SMALL(_xlfn._xlws.FILTER('Individual Results'!$D$3:$D$204,'Individual Results'!$F$3:$F$204=B37),3))} -> 18 | G37: {=IF(C37<4,"",SMALL(_xlfn._xlws.FILTER('Individual Results'!$D$3:$D$204,'Individual Results'!$F$3:$F$204=B37),4))} -> 19 | H37: =IF(C37<4,"",SUM(D37:G37)) -> 62 | I37: =IF(C37<4,"Incomplete","Complete") -> Complete
A38: =IF(H38="","",_xlfn.RANK.EQ(H38,$H$35:$H$49,1)) -> 4 | B38: Cwm Brombil | C38: =COUNTIF('Individual Results'!$F$3:$F$204,B38) -> 18 | D38: {=IF(C38<4,"",SMALL(_xlfn._xlws.FILTER('Individual Results'!$D$3:$D$204,'Individual Results'!$F$3:$F$204=B38),1))} -> 10 | E38: {=IF(C38<4,"",SMALL(_xlfn._xlws.FILTER('Individual Results'!$D$3:$D$204,'Individual Results'!$F$3:$F$204=B38),2))} -> 15 | F38: {=IF(C38<4,"",SMALL(_xlfn._xlws.FILTER('Individual Results'!$D$3:$D$204,'Individual Results'!$F$3:$F$204=B38),3))} -> 21 | G38: {=IF(C38<4,"",SMALL(_xlfn._xlws.FILTER('Individual Results'!$D$3:$D$204,'Individual Results'!$F$3:$F$204=B38),4))} -> 22 | H38: =IF(C38<4,"",SUM(D38:G38)) -> 68 | I38: =IF(C38<4,"Incomplete","Complete") -> Complete
A39: =IF(H39="","",_xlfn.RANK.EQ(H39,$H$35:$H$49,1)) -> 5 | B39: Olchfa | C39: =COUNTIF('Individual Results'!$F$3:$F$204,B39) -> 11 | D39: {=IF(C39<4,"",SMALL(_xlfn._xlws.FILTER('Individual Results'!$D$3:$D$204,'Individual Results'!$F$3:$F$204=B39),1))} -> 9 | E39: {=IF(C39<4,"",SMALL(_xlfn._xlws.FILTER('Individual Results'!$D$3:$D$204,'Individual Results'!$F$3:$F$204=B39),2))} -> 16 | F39: {=IF(C39<4,"",SMALL(_xlfn._xlws.FILTER('Individual Results'!$D$3:$D$204,'Individual Results'!$F$3:$F$204=B39),3))} -> 30 | G39: {=IF(C39<4,"",SMALL(_xlfn._xlws.FILTER('Individual Results'!$D$3:$D$204,'Individual Results'!$F$3:$F$204=B39),4))} -> 37 | H39: =IF(C39<4,"",SUM(D39:G39)) -> 92 | I39: =IF(C39<4,"Incomplete","Complete") -> Complete
A40: =IF(H40="","",_xlfn.RANK.EQ(H40,$H$35:$H$49,1)) -> 6 | B40: Bae Baglan | C40: =COUNTIF('Individual Results'!$F$3:$F$204,B40) -> 5 | D40: {=IF(C40<4,"",SMALL(_xlfn._xlws.FILTER('Individual Results'!$D$3:$D$204,'Individual Results'!$F$3:$F$204=B40),1))} -> 2 | E40: {=IF(C40<4,"",SMALL(_xlfn._xlws.FILTER('Individual Results'!$D$3:$D$204,'Individual Results'!$F$3:$F$204=B40),2))} -> 20 | F40: {=IF(C40<4,"",SMALL(_xlfn._xlws.FILTER('Individual Results'!$D$3:$D$204,'Individual Results'!$F$3:$F$204=B40),3))} -> 36 | G40: {=IF(C40<4,"",SMALL(_xlfn._xlws.FILTER('Individual Results'!$D$3:$D$204,'Individual Results'!$F$3:$F$204=B40),4))} -> 45 | H40: =IF(C40<4,"",SUM(D40:G40)) -> 103 | I40: =IF(C40<4,"Incomplete","Complete") -> Complete
A41: =IF(H41="","",_xlfn.RANK.EQ(H41,$H$35:$H$49,1)) -> 6 | B41: Bro Dur | C41: =COUNTIF('Individual Results'!$F$3:$F$204,B41) -> 14 | D41: {=IF(C41<4,"",SMALL(_xlfn._xlws.FILTER('Individual Results'!$D$3:$D$204,'Individual Results'!$F$3:$F$204=B41),1))} -> 5 | E41: {=IF(C41<4,"",SMALL(_xlfn._xlws.FILTER('Individual Results'!$D$3:$D$204,'Individual Results'!$F$3:$F$204=B41),2))} -> 27 | F41: {=IF(C41<4,"",SMALL(_xlfn._xlws.FILTER('Individual Results'!$D$3:$D$204,'Individual Results'!$F$3:$F$204=B41),3))} -> 33 | G41: {=IF(C41<4,"",SMALL(_xlfn._xlws.FILTER('Individual Results'!$D$3:$D$204,'Individual Results'!$F$3:$F$204=B41),4))} -> 38 | H41: =IF(C41<4,"",SUM(D41:G41)) -> 103 | I41: =IF(C41<4,"Incomplete","Complete") -> Complete
A42: =IF(H42="","",_xlfn.RANK.EQ(H42,$H$35:$H$49,1)) -> 8 | B42: Morriston | C42: =COUNTIF('Individual Results'!$F$3:$F$204,B42) -> 5 | D42: {=IF(C42<4,"",SMALL(_xlfn._xlws.FILTER('Individual Results'!$D$3:$D$204,'Individual Results'!$F$3:$F$204=B42),1))} -> 29 | E42: {=IF(C42<4,"",SMALL(_xlfn._xlws.FILTER('Individual Results'!$D$3:$D$204,'Individual Results'!$F$3:$F$204=B42),2))} -> 53 | F42: {=IF(C42<4,"",SMALL(_xlfn._xlws.FILTER('Individual Results'!$D$3:$D$204,'Individual Results'!$F$3:$F$204=B42),3))} -> 72 | G42: {=IF(C42<4,"",SMALL(_xlfn._xlws.FILTER('Individual Results'!$D$3:$D$204,'Individual Results'!$F$3:$F$204=B42),4))} -> 85 | H42: =IF(C42<4,"",SUM(D42:G42)) -> 239 | I42: =IF(C42<4,"Incomplete","Complete") -> Complete
A43: =IF(H43="","",_xlfn.RANK.EQ(H43,$H$35:$H$49,1)) -> 9 | B43: Penyrheol | C43: =COUNTIF('Individual Results'!$F$3:$F$204,B43) -> 5 | D43: {=IF(C43<4,"",SMALL(_xlfn._xlws.FILTER('Individual Results'!$D$3:$D$204,'Individual Results'!$F$3:$F$204=B43),1))} -> 34 | E43: {=IF(C43<4,"",SMALL(_xlfn._xlws.FILTER('Individual Results'!$D$3:$D$204,'Individual Results'!$F$3:$F$204=B43),2))} -> 39 | F43: {=IF(C43<4,"",SMALL(_xlfn._xlws.FILTER('Individual Results'!$D$3:$D$204,'Individual Results'!$F$3:$F$204=B43),3))} -> 75 | G43: {=IF(C43<4,"",SMALL(_xlfn._xlws.FILTER('Individual Results'!$D$3:$D$204,'Individual Results'!$F$3:$F$204=B43),4))} -> 106 | H43: =IF(C43<4,"",SUM(D43:G43)) -> 254 | I43: =IF(C43<4,"Incomplete","Complete") -> Complete
A44: =IF(H44="","",_xlfn.RANK.EQ(H44,$H$35:$H$49,1)) -> 10 | B44: Ystalyfera | C44: =COUNTIF('Individual Results'!$F$3:$F$204,B44) -> 7 | D44: {=IF(C44<4,"",SMALL(_xlfn._xlws.FILTER('Individual Results'!$D$3:$D$204,'Individual Results'!$F$3:$F$204=B44),1))} -> 41 | E44: {=IF(C44<4,"",SMALL(_xlfn._xlws.FILTER('Individual Results'!$D$3:$D$204,'Individual Results'!$F$3:$F$204=B44),2))} -> 95 | F44: {=IF(C44<4,"",SMALL(_xlfn._xlws.FILTER('Individual Results'!$D$3:$D$204,'Individual Results'!$F$3:$F$204=B44),3))} -> 101 | G44: {=IF(C44<4,"",SMALL(_xlfn._xlws.FILTER('Individual Results'!$D$3:$D$204,'Individual Results'!$F$3:$F$204=B44),4))} -> 102 | H44: =IF(C44<4,"",SUM(D44:G44)) -> 339 | I44: =IF(C44<4,"Incomplete","Complete") -> Complete
A45: =IF(H45="","",_xlfn.RANK.EQ(H45,$H$35:$H$49,1)) -> 11 | B45: Bishop Vaughan | C45: =COUNTIF('Individual Results'!$F$3:$F$204,B45) -> 6 | D45: {=IF(C45<4,"",SMALL(_xlfn._xlws.FILTER('Individual Results'!$D$3:$D$204,'Individual Results'!$F$3:$F$204=B45),1))} -> 64 | E45: {=IF(C45<4,"",SMALL(_xlfn._xlws.FILTER('Individual Results'!$D$3:$D$204,'Individual Results'!$F$3:$F$204=B45),2))} -> 84 | F45: {=IF(C45<4,"",SMALL(_xlfn._xlws.FILTER('Individual Results'!$D$3:$D$204,'Individual Results'!$F$3:$F$204=B45),3))} -> 89 | G45: {=IF(C45<4,"",SMALL(_xlfn._xlws.FILTER('Individual Results'!$D$3:$D$204,'Individual Results'!$F$3:$F$204=B45),4))} -> 108 | H45: =IF(C45<4,"",SUM(D45:G45)) -> 345 | I45: =IF(C45<4,"Incomplete","Complete") -> Complete
A46: =IF(H46="","",_xlfn.RANK.EQ(H46,$H$35:$H$49,1)) -> 11 | B46: Gowerton | C46: =COUNTIF('Individual Results'!$F$3:$F$204,B46) -> 6 | D46: {=IF(C46<4,"",SMALL(_xlfn._xlws.FILTER('Individual Results'!$D$3:$D$204,'Individual Results'!$F$3:$F$204=B46),1))} -> 65 | E46: {=IF(C46<4,"",SMALL(_xlfn._xlws.FILTER('Individual Results'!$D$3:$D$204,'Individual Results'!$F$3:$F$204=B46),2))} -> 87 | F46: {=IF(C46<4,"",SMALL(_xlfn._xlws.FILTER('Individual Results'!$D$3:$D$204,'Individual Results'!$F$3:$F$204=B46),3))} -> 93 | G46: {=IF(C46<4,"",SMALL(_xlfn._xlws.FILTER('Individual Results'!$D$3:$D$204,'Individual Results'!$F$3:$F$204=B46),4))} -> 100 | H46: =IF(C46<4,"",SUM(D46:G46)) -> 345 | I46: =IF(C46<4,"Incomplete","Complete") -> Complete
... A49: =IF(H49="","",_xlfn.RANK.EQ(H49,$H$35:$H$49,1)) | B49: Dylan Thomas | C49: =COUNTIF('Individual Results'!$F$3:$F$204,B49) -> 1 | D49: {=IF(C49<4,"",SMALL(_xlfn._xlws.FILTER('Individual Results'!$D$3:$D$204,'Individual Results'!$F$3:$F$204=B49),1))} | E49: {=IF(C49<4,"",SMALL(_xlfn._xlws.FILTER('Individual Results'!$D$3:$D$204,'Individual Results'!$F$3:$F$204=B49),2))} | F49: {=IF(C49<4,"",SMALL(_xlfn._xlws.FILTER('Individual Results'!$D$3:$D$204,'Individual Results'!$F$3:$F$204=B49),3))} | G49: {=IF(C49<4,"",SMALL(_xlfn._xlws.FILTER('Individual Results'!$D$3:$D$204,'Individual Results'!$F$3:$F$204=B49),4))} | H49: =IF(C49<4,"",SUM(D49:G49)) | I49: =IF(C49<4,"Incomplete","Complete") -> Incomplete
A52: Year 9 & 10 U16 Girls (2,700m)
A53: Rank | B53: School | C53: Finishers | D53: Scorer 1 | E53: Scorer 2 | F53: Scorer 3 | G53: Scorer 4 | H53: Team score | I53: Status
A54: =IF(H54="","",_xlfn.RANK.EQ(H54,$H$54:$H$67,1)) -> 1 | B54: Gwyr | C54: =COUNTIF('Individual Results'!$I$3:$I$204,B54) -> 12 | D54: {=IF(C54<4,"",SMALL(_xlfn._xlws.FILTER('Individual Results'!$G$3:$G$204,'Individual Results'!$I$3:$I$204=B54),1))} -> 4 | E54: {=IF(C54<4,"",SMALL(_xlfn._xlws.FILTER('Individual Results'!$G$3:$G$204,'Individual Results'!$I$3:$I$204=B54),2))} -> 5 | F54: {=IF(C54<4,"",SMALL(_xlfn._xlws.FILTER('Individual Results'!$G$3:$G$204,'Individual Results'!$I$3:$I$204=B54),3))} -> 13 | G54: {=IF(C54<4,"",SMALL(_xlfn._xlws.FILTER('Individual Results'!$G$3:$G$204,'Individual Results'!$I$3:$I$204=B54),4))} -> 14 | H54: =IF(C54<4,"",SUM(D54:G54)) -> 36 | I54: =IF(C54<4,"Incomplete","Complete") -> Complete
A55: =IF(H55="","",_xlfn.RANK.EQ(H55,$H$54:$H$67,1)) -> 2 | B55: Bishopston | C55: =COUNTIF('Individual Results'!$I$3:$I$204,B55) -> 12 | D55: {=IF(C55<4,"",SMALL(_xlfn._xlws.FILTER('Individual Results'!$G$3:$G$204,'Individual Results'!$I$3:$I$204=B55),1))} -> 3 | E55: {=IF(C55<4,"",SMALL(_xlfn._xlws.FILTER('Individual Results'!$G$3:$G$204,'Individual Results'!$I$3:$I$204=B55),2))} -> 9 | F55: {=IF(C55<4,"",SMALL(_xlfn._xlws.FILTER('Individual Results'!$G$3:$G$204,'Individual Results'!$I$3:$I$204=B55),3))} -> 16 | G55: {=IF(C55<4,"",SMALL(_xlfn._xlws.FILTER('Individual Results'!$G$3:$G$204,'Individual Results'!$I$3:$I$204=B55),4))} -> 17 | H55: =IF(C55<4,"",SUM(D55:G55)) -> 45 | I55: =IF(C55<4,"Incomplete","Complete") -> Complete
A56: =IF(H56="","",_xlfn.RANK.EQ(H56,$H$54:$H$67,1)) -> 3 | B56: Olchfa | C56: =COUNTIF('Individual Results'!$I$3:$I$204,B56) -> 12 | D56: {=IF(C56<4,"",SMALL(_xlfn._xlws.FILTER('Individual Results'!$G$3:$G$204,'Individual Results'!$I$3:$I$204=B56),1))} -> 2 | E56: {=IF(C56<4,"",SMALL(_xlfn._xlws.FILTER('Individual Results'!$G$3:$G$204,'Individual Results'!$I$3:$I$204=B56),2))} -> 6 | F56: {=IF(C56<4,"",SMALL(_xlfn._xlws.FILTER('Individual Results'!$G$3:$G$204,'Individual Results'!$I$3:$I$204=B56),3))} -> 11 | G56: {=IF(C56<4,"",SMALL(_xlfn._xlws.FILTER('Individual Results'!$G$3:$G$204,'Individual Results'!$I$3:$I$204=B56),4))} -> 32 | H56: =IF(C56<4,"",SUM(D56:G56)) -> 51 | I56: =IF(C56<4,"Incomplete","Complete") -> Complete
A57: =IF(H57="","",_xlfn.RANK.EQ(H57,$H$54:$H$67,1)) -> 4 | B57: Ystalyfera | C57: =COUNTIF('Individual Results'!$I$3:$I$204,B57) -> 9 | D57: {=IF(C57<4,"",SMALL(_xlfn._xlws.FILTER('Individual Results'!$G$3:$G$204,'Individual Results'!$I$3:$I$204=B57),1))} -> 8 | E57: {=IF(C57<4,"",SMALL(_xlfn._xlws.FILTER('Individual Results'!$G$3:$G$204,'Individual Results'!$I$3:$I$204=B57),2))} -> 10 | F57: {=IF(C57<4,"",SMALL(_xlfn._xlws.FILTER('Individual Results'!$G$3:$G$204,'Individual Results'!$I$3:$I$204=B57),3))} -> 12 | G57: {=IF(C57<4,"",SMALL(_xlfn._xlws.FILTER('Individual Results'!$G$3:$G$204,'Individual Results'!$I$3:$I$204=B57),4))} -> 25 | H57: =IF(C57<4,"",SUM(D57:G57)) -> 55 | I57: =IF(C57<4,"Incomplete","Complete") -> Complete
A58: =IF(H58="","",_xlfn.RANK.EQ(H58,$H$54:$H$67,1)) -> 5 | B58: Cwmtawe | C58: =COUNTIF('Individual Results'!$I$3:$I$204,B58) -> 8 | D58: {=IF(C58<4,"",SMALL(_xlfn._xlws.FILTER('Individual Results'!$G$3:$G$204,'Individual Results'!$I$3:$I$204=B58),1))} -> 7 | E58: {=IF(C58<4,"",SMALL(_xlfn._xlws.FILTER('Individual Results'!$G$3:$G$204,'Individual Results'!$I$3:$I$204=B58),2))} -> 21 | F58: {=IF(C58<4,"",SMALL(_xlfn._xlws.FILTER('Individual Results'!$G$3:$G$204,'Individual Results'!$I$3:$I$204=B58),3))} -> 22 | G58: {=IF(C58<4,"",SMALL(_xlfn._xlws.FILTER('Individual Results'!$G$3:$G$204,'Individual Results'!$I$3:$I$204=B58),4))} -> 23 | H58: =IF(C58<4,"",SUM(D58:G58)) -> 73 | I58: =IF(C58<4,"Incomplete","Complete") -> Complete
A59: =IF(H59="","",_xlfn.RANK.EQ(H59,$H$54:$H$67,1)) -> 6 | B59: Bro Dur | C59: =COUNTIF('Individual Results'!$I$3:$I$204,B59) -> 7 | D59: {=IF(C59<4,"",SMALL(_xlfn._xlws.FILTER('Individual Results'!$G$3:$G$204,'Individual Results'!$I$3:$I$204=B59),1))} -> 15 | E59: {=IF(C59<4,"",SMALL(_xlfn._xlws.FILTER('Individual Results'!$G$3:$G$204,'Individual Results'!$I$3:$I$204=B59),2))} -> 18 | F59: {=IF(C59<4,"",SMALL(_xlfn._xlws.FILTER('Individual Results'!$G$3:$G$204,'Individual Results'!$I$3:$I$204=B59),3))} -> 30 | G59: {=IF(C59<4,"",SMALL(_xlfn._xlws.FILTER('Individual Results'!$G$3:$G$204,'Individual Results'!$I$3:$I$204=B59),4))} -> 31 | H59: =IF(C59<4,"",SUM(D59:G59)) -> 94 | I59: =IF(C59<4,"Incomplete","Complete") -> Complete
A60: =IF(H60="","",_xlfn.RANK.EQ(H60,$H$54:$H$67,1)) -> 7 | B60: Bryn Tawe | C60: =COUNTIF('Individual Results'!$I$3:$I$204,B60) -> 7 | D60: {=IF(C60<4,"",SMALL(_xlfn._xlws.FILTER('Individual Results'!$G$3:$G$204,'Individual Results'!$I$3:$I$204=B60),1))} -> 24 | E60: {=IF(C60<4,"",SMALL(_xlfn._xlws.FILTER('Individual Results'!$G$3:$G$204,'Individual Results'!$I$3:$I$204=B60),2))} -> 26 | F60: {=IF(C60<4,"",SMALL(_xlfn._xlws.FILTER('Individual Results'!$G$3:$G$204,'Individual Results'!$I$3:$I$204=B60),3))} -> 27 | G60: {=IF(C60<4,"",SMALL(_xlfn._xlws.FILTER('Individual Results'!$G$3:$G$204,'Individual Results'!$I$3:$I$204=B60),4))} -> 55 | H60: =IF(C60<4,"",SUM(D60:G60)) -> 132 | I60: =IF(C60<4,"Incomplete","Complete") -> Complete
A61: =IF(H61="","",_xlfn.RANK.EQ(H61,$H$54:$H$67,1)) -> 8 | B61: Penyrheol | C61: =COUNTIF('Individual Results'!$I$3:$I$204,B61) -> 4 | D61: {=IF(C61<4,"",SMALL(_xlfn._xlws.FILTER('Individual Results'!$G$3:$G$204,'Individual Results'!$I$3:$I$204=B61),1))} -> 20 | E61: {=IF(C61<4,"",SMALL(_xlfn._xlws.FILTER('Individual Results'!$G$3:$G$204,'Individual Results'!$I$3:$I$204=B61),2))} -> 34 | F61: {=IF(C61<4,"",SMALL(_xlfn._xlws.FILTER('Individual Results'!$G$3:$G$204,'Individual Results'!$I$3:$I$204=B61),3))} -> 37 | G61: {=IF(C61<4,"",SMALL(_xlfn._xlws.FILTER('Individual Results'!$G$3:$G$204,'Individual Results'!$I$3:$I$204=B61),4))} -> 56 | H61: =IF(C61<4,"",SUM(D61:G61)) -> 147 | I61: =IF(C61<4,"Incomplete","Complete") -> Complete
A62: =IF(H62="","",_xlfn.RANK.EQ(H62,$H$54:$H$67,1)) -> 9 | B62: Morriston | C62: =COUNTIF('Individual Results'!$I$3:$I$204,B62) -> 5 | D62: {=IF(C62<4,"",SMALL(_xlfn._xlws.FILTER('Individual Results'!$G$3:$G$204,'Individual Results'!$I$3:$I$204=B62),1))} -> 1 | E62: {=IF(C62<4,"",SMALL(_xlfn._xlws.FILTER('Individual Results'!$G$3:$G$204,'Individual Results'!$I$3:$I$204=B62),2))} -> 45 | F62: {=IF(C62<4,"",SMALL(_xlfn._xlws.FILTER('Individual Results'!$G$3:$G$204,'Individual Results'!$I$3:$I$204=B62),3))} -> 50 | G62: {=IF(C62<4,"",SMALL(_xlfn._xlws.FILTER('Individual Results'!$G$3:$G$204,'Individual Results'!$I$3:$I$204=B62),4))} -> 70 | H62: =IF(C62<4,"",SUM(D62:G62)) -> 166 | I62: =IF(C62<4,"Incomplete","Complete") -> Complete
A63: =IF(H63="","",_xlfn.RANK.EQ(H63,$H$54:$H$67,1)) -> 10 | B63: Gowerton | C63: =COUNTIF('Individual Results'!$I$3:$I$204,B63) -> 4 | D63: {=IF(C63<4,"",SMALL(_xlfn._xlws.FILTER('Individual Results'!$G$3:$G$204,'Individual Results'!$I$3:$I$204=B63),1))} -> 49 | E63: {=IF(C63<4,"",SMALL(_xlfn._xlws.FILTER('Individual Results'!$G$3:$G$204,'Individual Results'!$I$3:$I$204=B63),2))} -> 83 | F63: {=IF(C63<4,"",SMALL(_xlfn._xlws.FILTER('Individual Results'!$G$3:$G$204,'Individual Results'!$I$3:$I$204=B63),3))} -> 85 | G63: {=IF(C63<4,"",SMALL(_xlfn._xlws.FILTER('Individual Results'!$G$3:$G$204,'Individual Results'!$I$3:$I$204=B63),4))} -> 86 | H63: =IF(C63<4,"",SUM(D63:G63)) -> 303 | I63: =IF(C63<4,"Incomplete","Complete") -> Complete
A64: =IF(H64="","",_xlfn.RANK.EQ(H64,$H$54:$H$67,1)) | B64: Bae Baglan | C64: =COUNTIF('Individual Results'!$I$3:$I$204,B64) -> 2 | D64: {=IF(C64<4,"",SMALL(_xlfn._xlws.FILTER('Individual Results'!$G$3:$G$204,'Individual Results'!$I$3:$I$204=B64),1))} | E64: {=IF(C64<4,"",SMALL(_xlfn._xlws.FILTER('Individual Results'!$G$3:$G$204,'Individual Results'!$I$3:$I$204=B64),2))} | F64: {=IF(C64<4,"",SMALL(_xlfn._xlws.FILTER('Individual Results'!$G$3:$G$204,'Individual Results'!$I$3:$I$204=B64),3))} | G64: {=IF(C64<4,"",SMALL(_xlfn._xlws.FILTER('Individual Results'!$G$3:$G$204,'Individual Results'!$I$3:$I$204=B64),4))} | H64: =IF(C64<4,"",SUM(D64:G64)) | I64: =IF(C64<4,"Incomplete","Complete") -> Incomplete
A65: =IF(H65="","",_xlfn.RANK.EQ(H65,$H$54:$H$67,1)) | B65: Bishop Vaughan | C65: =COUNTIF('Individual Results'!$I$3:$I$204,B65) -> 2 | D65: {=IF(C65<4,"",SMALL(_xlfn._xlws.FILTER('Individual Results'!$G$3:$G$204,'Individual Results'!$I$3:$I$204=B65),1))} | E65: {=IF(C65<4,"",SMALL(_xlfn._xlws.FILTER('Individual Results'!$G$3:$G$204,'Individual Results'!$I$3:$I$204=B65),2))} | F65: {=IF(C65<4,"",SMALL(_xlfn._xlws.FILTER('Individual Results'!$G$3:$G$204,'Individual Results'!$I$3:$I$204=B65),3))} | G65: {=IF(C65<4,"",SMALL(_xlfn._xlws.FILTER('Individual Results'!$G$3:$G$204,'Individual Results'!$I$3:$I$204=B65),4))} | H65: =IF(C65<4,"",SUM(D65:G65)) | I65: =IF(C65<4,"Incomplete","Complete") -> Incomplete
... A67: =IF(H67="","",_xlfn.RANK.EQ(H67,$H$54:$H$67,1)) | B67: Dylan Thomas | C67: =COUNTIF('Individual Results'!$I$3:$I$204,B67) -> 2 | D67: {=IF(C67<4,"",SMALL(_xlfn._xlws.FILTER('Individual Results'!$G$3:$G$204,'Individual Results'!$I$3:$I$204=B67),1))} | E67: {=IF(C67<4,"",SMALL(_xlfn._xlws.FILTER('Individual Results'!$G$3:$G$204,'Individual Results'!$I$3:$I$204=B67),2))} | F67: {=IF(C67<4,"",SMALL(_xlfn._xlws.FILTER('Individual Results'!$G$3:$G$204,'Individual Results'!$I$3:$I$204=B67),3))} | G67: {=IF(C67<4,"",SMALL(_xlfn._xlws.FILTER('Individual Results'!$G$3:$G$204,'Individual Results'!$I$3:$I$204=B67),4))} | H67: =IF(C67<4,"",SUM(D67:G67)) | I67: =IF(C67<4,"Incomplete","Complete") -> Incomplete
A70: Year 9 & 10 U16 Boys (2,700m)
A71: Rank | B71: School | C71: Finishers | D71: Scorer 1 | E71: Scorer 2 | F71: Scorer 3 | G71: Scorer 4 | H71: Team score | I71: Status
A72: =IF(H72="","",_xlfn.RANK.EQ(H72,$H$72:$H$86,1)) -> 1 | B72: Gwyr | C72: =COUNTIF('Individual Results'!$L$3:$L$204,B72) -> 15 | D72: {=IF(C72<4,"",SMALL(_xlfn._xlws.FILTER('Individual Results'!$J$3:$J$204,'Individual Results'!$L$3:$L$204=B72),1))} -> 2 | E72: {=IF(C72<4,"",SMALL(_xlfn._xlws.FILTER('Individual Results'!$J$3:$J$204,'Individual Results'!$L$3:$L$204=B72),2))} -> 8 | F72: {=IF(C72<4,"",SMALL(_xlfn._xlws.FILTER('Individual Results'!$J$3:$J$204,'Individual Results'!$L$3:$L$204=B72),3))} -> 9 | G72: {=IF(C72<4,"",SMALL(_xlfn._xlws.FILTER('Individual Results'!$J$3:$J$204,'Individual Results'!$L$3:$L$204=B72),4))} -> 10 | H72: =IF(C72<4,"",SUM(D72:G72)) -> 29 | I72: =IF(C72<4,"Incomplete","Complete") -> Complete
A73: =IF(H73="","",_xlfn.RANK.EQ(H73,$H$72:$H$86,1)) -> 2 | B73: Bro Dur | C73: =COUNTIF('Individual Results'!$L$3:$L$204,B73) -> 7 | D73: {=IF(C73<4,"",SMALL(_xlfn._xlws.FILTER('Individual Results'!$J$3:$J$204,'Individual Results'!$L$3:$L$204=B73),1))} -> 3 | E73: {=IF(C73<4,"",SMALL(_xlfn._xlws.FILTER('Individual Results'!$J$3:$J$204,'Individual Results'!$L$3:$L$204=B73),2))} -> 14 | F73: {=IF(C73<4,"",SMALL(_xlfn._xlws.FILTER('Individual Results'!$J$3:$J$204,'Individual Results'!$L$3:$L$204=B73),3))} -> 22 | G73: {=IF(C73<4,"",SMALL(_xlfn._xlws.FILTER('Individual Results'!$J$3:$J$204,'Individual Results'!$L$3:$L$204=B73),4))} -> 26 | H73: =IF(C73<4,"",SUM(D73:G73)) -> 65 | I73: =IF(C73<4,"Incomplete","Complete") -> Complete
A74: =IF(H74="","",_xlfn.RANK.EQ(H74,$H$72:$H$86,1)) -> 3 | B74: Olchfa | C74: =COUNTIF('Individual Results'!$L$3:$L$204,B74) -> 4 | D74: {=IF(C74<4,"",SMALL(_xlfn._xlws.FILTER('Individual Results'!$J$3:$J$204,'Individual Results'!$L$3:$L$204=B74),1))} -> 6 | E74: {=IF(C74<4,"",SMALL(_xlfn._xlws.FILTER('Individual Results'!$J$3:$J$204,'Individual Results'!$L$3:$L$204=B74),2))} -> 19 | F74: {=IF(C74<4,"",SMALL(_xlfn._xlws.FILTER('Individual Results'!$J$3:$J$204,'Individual Results'!$L$3:$L$204=B74),3))} -> 20 | G74: {=IF(C74<4,"",SMALL(_xlfn._xlws.FILTER('Individual Results'!$J$3:$J$204,'Individual Results'!$L$3:$L$204=B74),4))} -> 35 | H74: =IF(C74<4,"",SUM(D74:G74)) -> 80 | I74: =IF(C74<4,"Incomplete","Complete") -> Complete
A75: =IF(H75="","",_xlfn.RANK.EQ(H75,$H$72:$H$86,1)) -> 4 | B75: Morriston | C75: =COUNTIF('Individual Results'!$L$3:$L$204,B75) -> 11 | D75: {=IF(C75<4,"",SMALL(_xlfn._xlws.FILTER('Individual Results'!$J$3:$J$204,'Individual Results'!$L$3:$L$204=B75),1))} -> 5 | E75: {=IF(C75<4,"",SMALL(_xlfn._xlws.FILTER('Individual Results'!$J$3:$J$204,'Individual Results'!$L$3:$L$204=B75),2))} -> 33 | F75: {=IF(C75<4,"",SMALL(_xlfn._xlws.FILTER('Individual Results'!$J$3:$J$204,'Individual Results'!$L$3:$L$204=B75),3))} -> 34 | G75: {=IF(C75<4,"",SMALL(_xlfn._xlws.FILTER('Individual Results'!$J$3:$J$204,'Individual Results'!$L$3:$L$204=B75),4))} -> 36 | H75: =IF(C75<4,"",SUM(D75:G75)) -> 108 | I75: =IF(C75<4,"Incomplete","Complete") -> Complete
A76: =IF(H76="","",_xlfn.RANK.EQ(H76,$H$72:$H$86,1)) -> 5 | B76: Cwm Brombil | C76: =COUNTIF('Individual Results'!$L$3:$L$204,B76) -> 11 | D76: {=IF(C76<4,"",SMALL(_xlfn._xlws.FILTER('Individual Results'!$J$3:$J$204,'Individual Results'!$L$3:$L$204=B76),1))} -> 23 | E76: {=IF(C76<4,"",SMALL(_xlfn._xlws.FILTER('Individual Results'!$J$3:$J$204,'Individual Results'!$L$3:$L$204=B76),2))} -> 24 | F76: {=IF(C76<4,"",SMALL(_xlfn._xlws.FILTER('Individual Results'!$J$3:$J$204,'Individual Results'!$L$3:$L$204=B76),3))} -> 29 | G76: {=IF(C76<4,"",SMALL(_xlfn._xlws.FILTER('Individual Results'!$J$3:$J$204,'Individual Results'!$L$3:$L$204=B76),4))} -> 38 | H76: =IF(C76<4,"",SUM(D76:G76)) -> 114 | I76: =IF(C76<4,"Incomplete","Complete") -> Complete
A77: =IF(H77="","",_xlfn.RANK.EQ(H77,$H$72:$H$86,1)) -> 5 | B77: Ystalyfera | C77: =COUNTIF('Individual Results'!$L$3:$L$204,B77) -> 7 | D77: {=IF(C77<4,"",SMALL(_xlfn._xlws.FILTER('Individual Results'!$J$3:$J$204,'Individual Results'!$L$3:$L$204=B77),1))} -> 15 | E77: {=IF(C77<4,"",SMALL(_xlfn._xlws.FILTER('Individual Results'!$J$3:$J$204,'Individual Results'!$L$3:$L$204=B77),2))} -> 16 | F77: {=IF(C77<4,"",SMALL(_xlfn._xlws.FILTER('Individual Results'!$J$3:$J$204,'Individual Results'!$L$3:$L$204=B77),3))} -> 41 | G77: {=IF(C77<4,"",SMALL(_xlfn._xlws.FILTER('Individual Results'!$J$3:$J$204,'Individual Results'!$L$3:$L$204=B77),4))} -> 42 | H77: =IF(C77<4,"",SUM(D77:G77)) -> 114 | I77: =IF(C77<4,"Incomplete","Complete") -> Complete
A78: =IF(H78="","",_xlfn.RANK.EQ(H78,$H$72:$H$86,1)) -> 7 | B78: Gowerton | C78: =COUNTIF('Individual Results'!$L$3:$L$204,B78) -> 6 | D78: {=IF(C78<4,"",SMALL(_xlfn._xlws.FILTER('Individual Results'!$J$3:$J$204,'Individual Results'!$L$3:$L$204=B78),1))} -> 7 | E78: {=IF(C78<4,"",SMALL(_xlfn._xlws.FILTER('Individual Results'!$J$3:$J$204,'Individual Results'!$L$3:$L$204=B78),2))} -> 30 | F78: {=IF(C78<4,"",SMALL(_xlfn._xlws.FILTER('Individual Results'!$J$3:$J$204,'Individual Results'!$L$3:$L$204=B78),3))} -> 31 | G78: {=IF(C78<4,"",SMALL(_xlfn._xlws.FILTER('Individual Results'!$J$3:$J$204,'Individual Results'!$L$3:$L$204=B78),4))} -> 50 | H78: =IF(C78<4,"",SUM(D78:G78)) -> 118 | I78: =IF(C78<4,"Incomplete","Complete") -> Complete
A79: =IF(H79="","",_xlfn.RANK.EQ(H79,$H$72:$H$86,1)) -> 8 | B79: Bae Baglan | C79: =COUNTIF('Individual Results'!$L$3:$L$204,B79) -> 5 | D79: {=IF(C79<4,"",SMALL(_xlfn._xlws.FILTER('Individual Results'!$J$3:$J$204,'Individual Results'!$L$3:$L$204=B79),1))} -> 4 | E79: {=IF(C79<4,"",SMALL(_xlfn._xlws.FILTER('Individual Results'!$J$3:$J$204,'Individual Results'!$L$3:$L$204=B79),2))} -> 28 | F79: {=IF(C79<4,"",SMALL(_xlfn._xlws.FILTER('Individual Results'!$J$3:$J$204,'Individual Results'!$L$3:$L$204=B79),3))} -> 46 | G79: {=IF(C79<4,"",SMALL(_xlfn._xlws.FILTER('Individual Results'!$J$3:$J$204,'Individual Results'!$L$3:$L$204=B79),4))} -> 52 | H79: =IF(C79<4,"",SUM(D79:G79)) -> 130 | I79: =IF(C79<4,"Incomplete","Complete") -> Complete
A80: =IF(H80="","",_xlfn.RANK.EQ(H80,$H$72:$H$86,1)) -> 9 | B80: Bishop Gore | C80: =COUNTIF('Individual Results'!$L$3:$L$204,B80) -> 4 | D80: {=IF(C80<4,"",SMALL(_xlfn._xlws.FILTER('Individual Results'!$J$3:$J$204,'Individual Results'!$L$3:$L$204=B80),1))} -> 21 | E80: {=IF(C80<4,"",SMALL(_xlfn._xlws.FILTER('Individual Results'!$J$3:$J$204,'Individual Results'!$L$3:$L$204=B80),2))} -> 47 | F80: {=IF(C80<4,"",SMALL(_xlfn._xlws.FILTER('Individual Results'!$J$3:$J$204,'Individual Results'!$L$3:$L$204=B80),3))} -> 83 | G80: {=IF(C80<4,"",SMALL(_xlfn._xlws.FILTER('Individual Results'!$J$3:$J$204,'Individual Results'!$L$3:$L$204=B80),4))} -> 89 | H80: =IF(C80<4,"",SUM(D80:G80)) -> 240 | I80: =IF(C80<4,"Incomplete","Complete") -> Complete
A81: =IF(H81="","",_xlfn.RANK.EQ(H81,$H$72:$H$86,1)) -> 10 | B81: Bryn Tawe | C81: =COUNTIF('Individual Results'!$L$3:$L$204,B81) -> 8 | D81: {=IF(C81<4,"",SMALL(_xlfn._xlws.FILTER('Individual Results'!$J$3:$J$204,'Individual Results'!$L$3:$L$204=B81),1))} -> 43 | E81: {=IF(C81<4,"",SMALL(_xlfn._xlws.FILTER('Individual Results'!$J$3:$J$204,'Individual Results'!$L$3:$L$204=B81),2))} -> 62 | F81: {=IF(C81<4,"",SMALL(_xlfn._xlws.FILTER('Individual Results'!$J$3:$J$204,'Individual Results'!$L$3:$L$204=B81),3))} -> 79 | G81: {=IF(C81<4,"",SMALL(_xlfn._xlws.FILTER('Individual Results'!$J$3:$J$204,'Individual Results'!$L$3:$L$204=B81),4))} -> 81 | H81: =IF(C81<4,"",SUM(D81:G81)) -> 265 | I81: =IF(C81<4,"Incomplete","Complete") -> Complete
A82: =IF(H82="","",_xlfn.RANK.EQ(H82,$H$72:$H$86,1)) -> 11 | B82: Penyrheol | C82: =COUNTIF('Individual Results'!$L$3:$L$204,B82) -> 4 | D82: {=IF(C82<4,"",SMALL(_xlfn._xlws.FILTER('Individual Results'!$J$3:$J$204,'Individual Results'!$L$3:$L$204=B82),1))} -> 55 | E82: {=IF(C82<4,"",SMALL(_xlfn._xlws.FILTER('Individual Results'!$J$3:$J$204,'Individual Results'!$L$3:$L$204=B82),2))} -> 57 | F82: {=IF(C82<4,"",SMALL(_xlfn._xlws.FILTER('Individual Results'!$J$3:$J$204,'Individual Results'!$L$3:$L$204=B82),3))} -> 68 | G82: {=IF(C82<4,"",SMALL(_xlfn._xlws.FILTER('Individual Results'!$J$3:$J$204,'Individual Results'!$L$3:$L$204=B82),4))} -> 90 | H82: =IF(C82<4,"",SUM(D82:G82)) -> 270 | I82: =IF(C82<4,"Incomplete","Complete") -> Complete
A83: =IF(H83="","",_xlfn.RANK.EQ(H83,$H$72:$H$86,1)) -> 12 | B83: Llangatwg | C83: =COUNTIF('Individual Results'!$L$3:$L$204,B83) -> 4 | D83: {=IF(C83<4,"",SMALL(_xlfn._xlws.FILTER('Individual Results'!$J$3:$J$204,'Individual Results'!$L$3:$L$204=B83),1))} -> 63 | E83: {=IF(C83<4,"",SMALL(_xlfn._xlws.FILTER('Individual Results'!$J$3:$J$204,'Individual Results'!$L$3:$L$204=B83),2))} -> 76 | F83: {=IF(C83<4,"",SMALL(_xlfn._xlws.FILTER('Individual Results'!$J$3:$J$204,'Individual Results'!$L$3:$L$204=B83),3))} -> 85 | G83: {=IF(C83<4,"",SMALL(_xlfn._xlws.FILTER('Individual Results'!$J$3:$J$204,'Individual Results'!$L$3:$L$204=B83),4))} -> 86 | H83: =IF(C83<4,"",SUM(D83:G83)) -> 310 | I83: =IF(C83<4,"Incomplete","Complete") -> Complete
... A86: =IF(H86="","",_xlfn.RANK.EQ(H86,$H$72:$H$86,1)) | B86: Ffynone | C86: =COUNTIF('Individual Results'!$L$3:$L$204,B86) -> 3 | D86: {=IF(C86<4,"",SMALL(_xlfn._xlws.FILTER('Individual Results'!$J$3:$J$204,'Individual Results'!$L$3:$L$204=B86),1))} | E86: {=IF(C86<4,"",SMALL(_xlfn._xlws.FILTER('Individual Results'!$J$3:$J$204,'Individual Results'!$L$3:$L$204=B86),2))} | F86: {=IF(C86<4,"",SMALL(_xlfn._xlws.FILTER('Individual Results'!$J$3:$J$204,'Individual Results'!$L$3:$L$204=B86),3))} | G86: {=IF(C86<4,"",SMALL(_xlfn._xlws.FILTER('Individual Results'!$J$3:$J$204,'Individual Results'!$L$3:$L$204=B86),4))} | H86: =IF(C86<4,"",SUM(D86:G86)) | I86: =IF(C86<4,"Incomplete","Complete") -> Incomplete
A89: Year 11 to 14 U18 & U20 Girls (3,000m)
A90: Rank | B90: School | C90: Finishers | D90: Scorer 1 | E90: Scorer 2 | F90: Scorer 3 | G90: Scorer 4 | H90: Team score | I90: Status
A91: =IF(H91="","",_xlfn.RANK.EQ(H91,$H$91:$H$101,1)) -> 1 | B91: Cwm Brombil | C91: =COUNTIF('Individual Results'!$O$3:$O$204,B91) -> 4 | D91: {=IF(C91<4,"",SMALL(_xlfn._xlws.FILTER('Individual Results'!$M$3:$M$204,'Individual Results'!$O$3:$O$204=B91),1))} -> 4 | E91: {=IF(C91<4,"",SMALL(_xlfn._xlws.FILTER('Individual Results'!$M$3:$M$204,'Individual Results'!$O$3:$O$204=B91),2))} -> 11 | F91: {=IF(C91<4,"",SMALL(_xlfn._xlws.FILTER('Individual Results'!$M$3:$M$204,'Individual Results'!$O$3:$O$204=B91),3))} -> 15 | G91: {=IF(C91<4,"",SMALL(_xlfn._xlws.FILTER('Individual Results'!$M$3:$M$204,'Individual Results'!$O$3:$O$204=B91),4))} -> 16 | H91: =IF(C91<4,"",SUM(D91:G91)) -> 46 | I91: =IF(C91<4,"Incomplete","Complete") -> Complete
A92: =IF(H92="","",_xlfn.RANK.EQ(H92,$H$91:$H$101,1)) | B92: Bae Baglan | C92: =COUNTIF('Individual Results'!$O$3:$O$204,B92) -> 1 | D92: {=IF(C92<4,"",SMALL(_xlfn._xlws.FILTER('Individual Results'!$M$3:$M$204,'Individual Results'!$O$3:$O$204=B92),1))} | E92: {=IF(C92<4,"",SMALL(_xlfn._xlws.FILTER('Individual Results'!$M$3:$M$204,'Individual Results'!$O$3:$O$204=B92),2))} | F92: {=IF(C92<4,"",SMALL(_xlfn._xlws.FILTER('Individual Results'!$M$3:$M$204,'Individual Results'!$O$3:$O$204=B92),3))} | G92: {=IF(C92<4,"",SMALL(_xlfn._xlws.FILTER('Individual Results'!$M$3:$M$204,'Individual Results'!$O$3:$O$204=B92),4))} | H92: =IF(C92<4,"",SUM(D92:G92)) | I92: =IF(C92<4,"Incomplete","Complete") -> Incomplete
A93: =IF(H93="","",_xlfn.RANK.EQ(H93,$H$91:$H$101,1)) | B93: Bro Dur | C93: =COUNTIF('Individual Results'!$O$3:$O$204,B93) -> 2 | D93: {=IF(C93<4,"",SMALL(_xlfn._xlws.FILTER('Individual Results'!$M$3:$M$204,'Individual Results'!$O$3:$O$204=B93),1))} | E93: {=IF(C93<4,"",SMALL(_xlfn._xlws.FILTER('Individual Results'!$M$3:$M$204,'Individual Results'!$O$3:$O$204=B93),2))} | F93: {=IF(C93<4,"",SMALL(_xlfn._xlws.FILTER('Individual Results'!$M$3:$M$204,'Individual Results'!$O$3:$O$204=B93),3))} | G93: {=IF(C93<4,"",SMALL(_xlfn._xlws.FILTER('Individual Results'!$M$3:$M$204,'Individual Results'!$O$3:$O$204=B93),4))} | H93: =IF(C93<4,"",SUM(D93:G93)) | I93: =IF(C93<4,"Incomplete","Complete") -> Incomplete
A94: =IF(H94="","",_xlfn.RANK.EQ(H94,$H$91:$H$101,1)) | B94: Cefn Saeson | C94: =COUNTIF('Individual Results'!$O$3:$O$204,B94) -> 1 | D94: {=IF(C94<4,"",SMALL(_xlfn._xlws.FILTER('Individual Results'!$M$3:$M$204,'Individual Results'!$O$3:$O$204=B94),1))} | E94: {=IF(C94<4,"",SMALL(_xlfn._xlws.FILTER('Individual Results'!$M$3:$M$204,'Individual Results'!$O$3:$O$204=B94),2))} | F94: {=IF(C94<4,"",SMALL(_xlfn._xlws.FILTER('Individual Results'!$M$3:$M$204,'Individual Results'!$O$3:$O$204=B94),3))} | G94: {=IF(C94<4,"",SMALL(_xlfn._xlws.FILTER('Individual Results'!$M$3:$M$204,'Individual Results'!$O$3:$O$204=B94),4))} | H94: =IF(C94<4,"",SUM(D94:G94)) | I94: =IF(C94<4,"Incomplete","Complete") -> Incomplete
A95: =IF(H95="","",_xlfn.RANK.EQ(H95,$H$91:$H$101,1)) | B95: Cwmtawe | C95: =COUNTIF('Individual Results'!$O$3:$O$204,B95) -> 1 | D95: {=IF(C95<4,"",SMALL(_xlfn._xlws.FILTER('Individual Results'!$M$3:$M$204,'Individual Results'!$O$3:$O$204=B95),1))} | E95: {=IF(C95<4,"",SMALL(_xlfn._xlws.FILTER('Individual Results'!$M$3:$M$204,'Individual Results'!$O$3:$O$204=B95),2))} | F95: {=IF(C95<4,"",SMALL(_xlfn._xlws.FILTER('Individual Results'!$M$3:$M$204,'Individual Results'!$O$3:$O$204=B95),3))} | G95: {=IF(C95<4,"",SMALL(_xlfn._xlws.FILTER('Individual Results'!$M$3:$M$204,'Individual Results'!$O$3:$O$204=B95),4))} | H95: =IF(C95<4,"",SUM(D95:G95)) | I95: =IF(C95<4,"Incomplete","Complete") -> Incomplete
A96: =IF(H96="","",_xlfn.RANK.EQ(H96,$H$91:$H$101,1)) | B96: Ffynone | C96: =COUNTIF('Individual Results'!$O$3:$O$204,B96) -> 1 | D96: {=IF(C96<4,"",SMALL(_xlfn._xlws.FILTER('Individual Results'!$M$3:$M$204,'Individual Results'!$O$3:$O$204=B96),1))} | E96: {=IF(C96<4,"",SMALL(_xlfn._xlws.FILTER('Individual Results'!$M$3:$M$204,'Individual Results'!$O$3:$O$204=B96),2))} | F96: {=IF(C96<4,"",SMALL(_xlfn._xlws.FILTER('Individual Results'!$M$3:$M$204,'Individual Results'!$O$3:$O$204=B96),3))} | G96: {=IF(C96<4,"",SMALL(_xlfn._xlws.FILTER('Individual Results'!$M$3:$M$204,'Individual Results'!$O$3:$O$204=B96),4))} | H96: =IF(C96<4,"",SUM(D96:G96)) | I96: =IF(C96<4,"Incomplete","Complete") -> Incomplete
A97: =IF(H97="","",_xlfn.RANK.EQ(H97,$H$91:$H$101,1)) | B97: Gowerton | C97: =COUNTIF('Individual Results'!$O$3:$O$204,B97) -> 1 | D97: {=IF(C97<4,"",SMALL(_xlfn._xlws.FILTER('Individual Results'!$M$3:$M$204,'Individual Results'!$O$3:$O$204=B97),1))} | E97: {=IF(C97<4,"",SMALL(_xlfn._xlws.FILTER('Individual Results'!$M$3:$M$204,'Individual Results'!$O$3:$O$204=B97),2))} | F97: {=IF(C97<4,"",SMALL(_xlfn._xlws.FILTER('Individual Results'!$M$3:$M$204,'Individual Results'!$O$3:$O$204=B97),3))} | G97: {=IF(C97<4,"",SMALL(_xlfn._xlws.FILTER('Individual Results'!$M$3:$M$204,'Individual Results'!$O$3:$O$204=B97),4))} | H97: =IF(C97<4,"",SUM(D97:G97)) | I97: =IF(C97<4,"Incomplete","Complete") -> Incomplete
A98: =IF(H98="","",_xlfn.RANK.EQ(H98,$H$91:$H$101,1)) | B98: Gwyr | C98: =COUNTIF('Individual Results'!$O$3:$O$204,B98) -> 2 | D98: {=IF(C98<4,"",SMALL(_xlfn._xlws.FILTER('Individual Results'!$M$3:$M$204,'Individual Results'!$O$3:$O$204=B98),1))} | E98: {=IF(C98<4,"",SMALL(_xlfn._xlws.FILTER('Individual Results'!$M$3:$M$204,'Individual Results'!$O$3:$O$204=B98),2))} | F98: {=IF(C98<4,"",SMALL(_xlfn._xlws.FILTER('Individual Results'!$M$3:$M$204,'Individual Results'!$O$3:$O$204=B98),3))} | G98: {=IF(C98<4,"",SMALL(_xlfn._xlws.FILTER('Individual Results'!$M$3:$M$204,'Individual Results'!$O$3:$O$204=B98),4))} | H98: =IF(C98<4,"",SUM(D98:G98)) | I98: =IF(C98<4,"Incomplete","Complete") -> Incomplete
A99: =IF(H99="","",_xlfn.RANK.EQ(H99,$H$91:$H$101,1)) | B99: Morriston | C99: =COUNTIF('Individual Results'!$O$3:$O$204,B99) -> 2 | D99: {=IF(C99<4,"",SMALL(_xlfn._xlws.FILTER('Individual Results'!$M$3:$M$204,'Individual Results'!$O$3:$O$204=B99),1))} | E99: {=IF(C99<4,"",SMALL(_xlfn._xlws.FILTER('Individual Results'!$M$3:$M$204,'Individual Results'!$O$3:$O$204=B99),2))} | F99: {=IF(C99<4,"",SMALL(_xlfn._xlws.FILTER('Individual Results'!$M$3:$M$204,'Individual Results'!$O$3:$O$204=B99),3))} | G99: {=IF(C99<4,"",SMALL(_xlfn._xlws.FILTER('Individual Results'!$M$3:$M$204,'Individual Results'!$O$3:$O$204=B99),4))} | H99: =IF(C99<4,"",SUM(D99:G99)) | I99: =IF(C99<4,"Incomplete","Complete") -> Incomplete
A100: =IF(H100="","",_xlfn.RANK.EQ(H100,$H$91:$H$101,1)) | B100: Olchfa | C100: =COUNTIF('Individual Results'!$O$3:$O$204,B100) -> 3 | D100: {=IF(C100<4,"",SMALL(_xlfn._xlws.FILTER('Individual Results'!$M$3:$M$204,'Individual Results'!$O$3:$O$204=B100),1))} | E100: {=IF(C100<4,"",SMALL(_xlfn._xlws.FILTER('Individual Results'!$M$3:$M$204,'Individual Results'!$O$3:$O$204=B100),2))} | F100: {=IF(C100<4,"",SMALL(_xlfn._xlws.FILTER('Individual Results'!$M$3:$M$204,'Individual Results'!$O$3:$O$204=B100),3))} | G100: {=IF(C100<4,"",SMALL(_xlfn._xlws.FILTER('Individual Results'!$M$3:$M$204,'Individual Results'!$O$3:$O$204=B100),4))} | H100: =IF(C100<4,"",SUM(D100:G100)) | I100: =IF(C100<4,"Incomplete","Complete") -> Incomplete
A101: =IF(H101="","",_xlfn.RANK.EQ(H101,$H$91:$H$101,1)) | B101: Penyrheol | C101: =COUNTIF('Individual Results'!$O$3:$O$204,B101) -> 1 | D101: {=IF(C101<4,"",SMALL(_xlfn._xlws.FILTER('Individual Results'!$M$3:$M$204,'Individual Results'!$O$3:$O$204=B101),1))} | E101: {=IF(C101<4,"",SMALL(_xlfn._xlws.FILTER('Individual Results'!$M$3:$M$204,'Individual Results'!$O$3:$O$204=B101),2))} | F101: {=IF(C101<4,"",SMALL(_xlfn._xlws.FILTER('Individual Results'!$M$3:$M$204,'Individual Results'!$O$3:$O$204=B101),3))} | G101: {=IF(C101<4,"",SMALL(_xlfn._xlws.FILTER('Individual Results'!$M$3:$M$204,'Individual Results'!$O$3:$O$204=B101),4))} | H101: =IF(C101<4,"",SUM(D101:G101)) | I101: =IF(C101<4,"Incomplete","Complete") -> Incomplete
A104: Year 11 to 14 U18 & U20 Boys (3,000m)
A105: Rank | B105: School | C105: Finishers | D105: Scorer 1 | E105: Scorer 2 | F105: Scorer 3 | G105: Scorer 4 | H105: Team score | I105: Status
A106: =IF(H106="","",_xlfn.RANK.EQ(H106,$H$106:$H$120,1)) -> 1 | B106: Cefn Saeson | C106: =COUNTIF('Individual Results'!$R$3:$R$204,B106) -> 10 | D106: {=IF(C106<4,"",SMALL(_xlfn._xlws.FILTER('Individual Results'!$P$3:$P$204,'Individual Results'!$R$3:$R$204=B106),1))} -> 7 | E106: {=IF(C106<4,"",SMALL(_xlfn._xlws.FILTER('Individual Results'!$P$3:$P$204,'Individual Results'!$R$3:$R$204=B106),2))} -> 9 | F106: {=IF(C106<4,"",SMALL(_xlfn._xlws.FILTER('Individual Results'!$P$3:$P$204,'Individual Results'!$R$3:$R$204=B106),3))} -> 11 | G106: {=IF(C106<4,"",SMALL(_xlfn._xlws.FILTER('Individual Results'!$P$3:$P$204,'Individual Results'!$R$3:$R$204=B106),4))} -> 31 | H106: =IF(C106<4,"",SUM(D106:G106)) -> 58 | I106: =IF(C106<4,"Incomplete","Complete") -> Complete
A107: =IF(H107="","",_xlfn.RANK.EQ(H107,$H$106:$H$120,1)) -> 2 | B107: Bro Dur | C107: =COUNTIF('Individual Results'!$R$3:$R$204,B107) -> 5 | D107: {=IF(C107<4,"",SMALL(_xlfn._xlws.FILTER('Individual Results'!$P$3:$P$204,'Individual Results'!$R$3:$R$204=B107),1))} -> 4 | E107: {=IF(C107<4,"",SMALL(_xlfn._xlws.FILTER('Individual Results'!$P$3:$P$204,'Individual Results'!$R$3:$R$204=B107),2))} -> 20 | F107: {=IF(C107<4,"",SMALL(_xlfn._xlws.FILTER('Individual Results'!$P$3:$P$204,'Individual Results'!$R$3:$R$204=B107),3))} -> 33 | G107: {=IF(C107<4,"",SMALL(_xlfn._xlws.FILTER('Individual Results'!$P$3:$P$204,'Individual Results'!$R$3:$R$204=B107),4))} -> 34 | H107: =IF(C107<4,"",SUM(D107:G107)) -> 91 | I107: =IF(C107<4,"Incomplete","Complete") -> Complete
A108: =IF(H108="","",_xlfn.RANK.EQ(H108,$H$106:$H$120,1)) -> 3 | B108: Bae Baglan | C108: =COUNTIF('Individual Results'!$R$3:$R$204,B108) -> 6 | D108: {=IF(C108<4,"",SMALL(_xlfn._xlws.FILTER('Individual Results'!$P$3:$P$204,'Individual Results'!$R$3:$R$204=B108),1))} -> 13 | E108: {=IF(C108<4,"",SMALL(_xlfn._xlws.FILTER('Individual Results'!$P$3:$P$204,'Individual Results'!$R$3:$R$204=B108),2))} -> 23 | F108: {=IF(C108<4,"",SMALL(_xlfn._xlws.FILTER('Individual Results'!$P$3:$P$204,'Individual Results'!$R$3:$R$204=B108),3))} -> 26 | G108: {=IF(C108<4,"",SMALL(_xlfn._xlws.FILTER('Individual Results'!$P$3:$P$204,'Individual Results'!$R$3:$R$204=B108),4))} -> 30 | H108: =IF(C108<4,"",SUM(D108:G108)) -> 92 | I108: =IF(C108<4,"Incomplete","Complete") -> Complete
A109: =IF(H109="","",_xlfn.RANK.EQ(H109,$H$106:$H$120,1)) -> 4 | B109: Morriston | C109: =COUNTIF('Individual Results'!$R$3:$R$204,B109) -> 5 | D109: {=IF(C109<4,"",SMALL(_xlfn._xlws.FILTER('Individual Results'!$P$3:$P$204,'Individual Results'!$R$3:$R$204=B109),1))} -> 8 | E109: {=IF(C109<4,"",SMALL(_xlfn._xlws.FILTER('Individual Results'!$P$3:$P$204,'Individual Results'!$R$3:$R$204=B109),2))} -> 16 | F109: {=IF(C109<4,"",SMALL(_xlfn._xlws.FILTER('Individual Results'!$P$3:$P$204,'Individual Results'!$R$3:$R$204=B109),3))} -> 24 | G109: {=IF(C109<4,"",SMALL(_xlfn._xlws.FILTER('Individual Results'!$P$3:$P$204,'Individual Results'!$R$3:$R$204=B109),4))} -> 53 | H109: =IF(C109<4,"",SUM(D109:G109)) -> 101 | I109: =IF(C109<4,"Incomplete","Complete") -> Complete
A110: =IF(H110="","",_xlfn.RANK.EQ(H110,$H$106:$H$120,1)) -> 5 | B110: Gwyr | C110: =COUNTIF('Individual Results'!$R$3:$R$204,B110) -> 11 | D110: {=IF(C110<4,"",SMALL(_xlfn._xlws.FILTER('Individual Results'!$P$3:$P$204,'Individual Results'!$R$3:$R$204=B110),1))} -> 21 | E110: {=IF(C110<4,"",SMALL(_xlfn._xlws.FILTER('Individual Results'!$P$3:$P$204,'Individual Results'!$R$3:$R$204=B110),2))} -> 22 | F110: {=IF(C110<4,"",SMALL(_xlfn._xlws.FILTER('Individual Results'!$P$3:$P$204,'Individual Results'!$R$3:$R$204=B110),3))} -> 25 | G110: {=IF(C110<4,"",SMALL(_xlfn._xlws.FILTER('Individual Results'!$P$3:$P$204,'Individual Results'!$R$3:$R$204=B110),4))} -> 36 | H110: =IF(C110<4,"",SUM(D110:G110)) -> 104 | I110: =IF(C110<4,"Incomplete","Complete") -> Complete
A111: =IF(H111="","",_xlfn.RANK.EQ(H111,$H$106:$H$120,1)) -> 6 | B111: Cwm Brombil | C111: =COUNTIF('Individual Results'!$R$3:$R$204,B111) -> 5 | D111: {=IF(C111<4,"",SMALL(_xlfn._xlws.FILTER('Individual Results'!$P$3:$P$204,'Individual Results'!$R$3:$R$204=B111),1))} -> 14 | E111: {=IF(C111<4,"",SMALL(_xlfn._xlws.FILTER('Individual Results'!$P$3:$P$204,'Individual Results'!$R$3:$R$204=B111),2))} -> 27 | F111: {=IF(C111<4,"",SMALL(_xlfn._xlws.FILTER('Individual Results'!$P$3:$P$204,'Individual Results'!$R$3:$R$204=B111),3))} -> 29 | G111: {=IF(C111<4,"",SMALL(_xlfn._xlws.FILTER('Individual Results'!$P$3:$P$204,'Individual Results'!$R$3:$R$204=B111),4))} -> 46 | H111: =IF(C111<4,"",SUM(D111:G111)) -> 116 | I111: =IF(C111<4,"Incomplete","Complete") -> Complete
A112: =IF(H112="","",_xlfn.RANK.EQ(H112,$H$106:$H$120,1)) -> 7 | B112: Llangatwg | C112: =COUNTIF('Individual Results'!$R$3:$R$204,B112) -> 4 | D112: {=IF(C112<4,"",SMALL(_xlfn._xlws.FILTER('Individual Results'!$P$3:$P$204,'Individual Results'!$R$3:$R$204=B112),1))} -> 17 | E112: {=IF(C112<4,"",SMALL(_xlfn._xlws.FILTER('Individual Results'!$P$3:$P$204,'Individual Results'!$R$3:$R$204=B112),2))} -> 19 | F112: {=IF(C112<4,"",SMALL(_xlfn._xlws.FILTER('Individual Results'!$P$3:$P$204,'Individual Results'!$R$3:$R$204=B112),3))} -> 40 | G112: {=IF(C112<4,"",SMALL(_xlfn._xlws.FILTER('Individual Results'!$P$3:$P$204,'Individual Results'!$R$3:$R$204=B112),4))} -> 45 | H112: =IF(C112<4,"",SUM(D112:G112)) -> 121 | I112: =IF(C112<4,"Incomplete","Complete") -> Complete
A113: =IF(H113="","",_xlfn.RANK.EQ(H113,$H$106:$H$120,1)) -> 8 | B113: Penyrheol | C113: =COUNTIF('Individual Results'!$R$3:$R$204,B113) -> 8 | D113: {=IF(C113<4,"",SMALL(_xlfn._xlws.FILTER('Individual Results'!$P$3:$P$204,'Individual Results'!$R$3:$R$204=B113),1))} -> 6 | E113: {=IF(C113<4,"",SMALL(_xlfn._xlws.FILTER('Individual Results'!$P$3:$P$204,'Individual Results'!$R$3:$R$204=B113),2))} -> 35 | F113: {=IF(C113<4,"",SMALL(_xlfn._xlws.FILTER('Individual Results'!$P$3:$P$204,'Individual Results'!$R$3:$R$204=B113),3))} -> 42 | G113: {=IF(C113<4,"",SMALL(_xlfn._xlws.FILTER('Individual Results'!$P$3:$P$204,'Individual Results'!$R$3:$R$204=B113),4))} -> 43 | H113: =IF(C113<4,"",SUM(D113:G113)) -> 126 | I113: =IF(C113<4,"Incomplete","Complete") -> Complete
A114: =IF(H114="","",_xlfn.RANK.EQ(H114,$H$106:$H$120,1)) -> 9 | B114: Dylan Thomas | C114: =COUNTIF('Individual Results'!$R$3:$R$204,B114) -> 4 | D114: {=IF(C114<4,"",SMALL(_xlfn._xlws.FILTER('Individual Results'!$P$3:$P$204,'Individual Results'!$R$3:$R$204=B114),1))} -> 10 | E114: {=IF(C114<4,"",SMALL(_xlfn._xlws.FILTER('Individual Results'!$P$3:$P$204,'Individual Results'!$R$3:$R$204=B114),2))} -> 28 | F114: {=IF(C114<4,"",SMALL(_xlfn._xlws.FILTER('Individual Results'!$P$3:$P$204,'Individual Results'!$R$3:$R$204=B114),3))} -> 65 | G114: {=IF(C114<4,"",SMALL(_xlfn._xlws.FILTER('Individual Results'!$P$3:$P$204,'Individual Results'!$R$3:$R$204=B114),4))} -> 66 | H114: =IF(C114<4,"",SUM(D114:G114)) -> 169 | I114: =IF(C114<4,"Incomplete","Complete") -> Complete
A115: =IF(H115="","",_xlfn.RANK.EQ(H115,$H$106:$H$120,1)) | B115: Bishop Vaughan | C115: =COUNTIF('Individual Results'!$R$3:$R$204,B115) -> 1 | D115: {=IF(C115<4,"",SMALL(_xlfn._xlws.FILTER('Individual Results'!$P$3:$P$204,'Individual Results'!$R$3:$R$204=B115),1))} | E115: {=IF(C115<4,"",SMALL(_xlfn._xlws.FILTER('Individual Results'!$P$3:$P$204,'Individual Results'!$R$3:$R$204=B115),2))} | F115: {=IF(C115<4,"",SMALL(_xlfn._xlws.FILTER('Individual Results'!$P$3:$P$204,'Individual Results'!$R$3:$R$204=B115),3))} | G115: {=IF(C115<4,"",SMALL(_xlfn._xlws.FILTER('Individual Results'!$P$3:$P$204,'Individual Results'!$R$3:$R$204=B115),4))} | H115: =IF(C115<4,"",SUM(D115:G115)) | I115: =IF(C115<4,"Incomplete","Complete") -> Incomplete
A116: =IF(H116="","",_xlfn.RANK.EQ(H116,$H$106:$H$120,1)) | B116: Bryn Tawe | C116: =COUNTIF('Individual Results'!$R$3:$R$204,B116) -> 1 | D116: {=IF(C116<4,"",SMALL(_xlfn._xlws.FILTER('Individual Results'!$P$3:$P$204,'Individual Results'!$R$3:$R$204=B116),1))} | E116: {=IF(C116<4,"",SMALL(_xlfn._xlws.FILTER('Individual Results'!$P$3:$P$204,'Individual Results'!$R$3:$R$204=B116),2))} | F116: {=IF(C116<4,"",SMALL(_xlfn._xlws.FILTER('Individual Results'!$P$3:$P$204,'Individual Results'!$R$3:$R$204=B116),3))} | G116: {=IF(C116<4,"",SMALL(_xlfn._xlws.FILTER('Individual Results'!$P$3:$P$204,'Individual Results'!$R$3:$R$204=B116),4))} | H116: =IF(C116<4,"",SUM(D116:G116)) | I116: =IF(C116<4,"Incomplete","Complete") -> Incomplete
A117: =IF(H117="","",_xlfn.RANK.EQ(H117,$H$106:$H$120,1)) | B117: Cwmtawe | C117: =COUNTIF('Individual Results'!$R$3:$R$204,B117) -> 3 | D117: {=IF(C117<4,"",SMALL(_xlfn._xlws.FILTER('Individual Results'!$P$3:$P$204,'Individual Results'!$R$3:$R$204=B117),1))} | E117: {=IF(C117<4,"",SMALL(_xlfn._xlws.FILTER('Individual Results'!$P$3:$P$204,'Individual Results'!$R$3:$R$204=B117),2))} | F117: {=IF(C117<4,"",SMALL(_xlfn._xlws.FILTER('Individual Results'!$P$3:$P$204,'Individual Results'!$R$3:$R$204=B117),3))} | G117: {=IF(C117<4,"",SMALL(_xlfn._xlws.FILTER('Individual Results'!$P$3:$P$204,'Individual Results'!$R$3:$R$204=B117),4))} | H117: =IF(C117<4,"",SUM(D117:G117)) | I117: =IF(C117<4,"Incomplete","Complete") -> Incomplete
... A120: =IF(H120="","",_xlfn.RANK.EQ(H120,$H$106:$H$120,1)) | B120: Ystalyfera | C120: =COUNTIF('Individual Results'!$R$3:$R$204,B120) -> 1 | D120: {=IF(C120<4,"",SMALL(_xlfn._xlws.FILTER('Individual Results'!$P$3:$P$204,'Individual Results'!$R$3:$R$204=B120),1))} | E120: {=IF(C120<4,"",SMALL(_xlfn._xlws.FILTER('Individual Results'!$P$3:$P$204,'Individual Results'!$R$3:$R$204=B120),2))} | F120: {=IF(C120<4,"",SMALL(_xlfn._xlws.FILTER('Individual Results'!$P$3:$P$204,'Individual Results'!$R$3:$R$204=B120),3))} | G120: {=IF(C120<4,"",SMALL(_xlfn._xlws.FILTER('Individual Results'!$P$3:$P$204,'Individual Results'!$R$3:$R$204=B120),4))} | H120: =IF(C120<4,"",SUM(D120:G120)) | I120: =IF(C120<4,"Incomplete","Complete") -> Incomplete
